BEGIN:VCALENDAR
VERSION:2.0
PRODID:-//Solomon Temple Ministries International - ECPv6.15.18//NONSGML v1.0//EN
CALSCALE:GREGORIAN
METHOD:PUBLISH
X-WR-CALNAME:Solomon Temple Ministries International
X-ORIGINAL-URL:https://solomontempleministries.org
X-WR-CALDESC:Events for Solomon Temple Ministries International
REFRESH-INTERVAL;VALUE=DURATION:PT1H
X-Robots-Tag:noindex
X-PUBLISHED-TTL:PT1H
BEGIN:VTIMEZONE
TZID:America/Los_Angeles
BEGIN:DAYLIGHT
TZOFFSETFROM:-0800
TZOFFSETTO:-0700
TZNAME:PDT
DTSTART:20250309T100000
END:DAYLIGHT
BEGIN:STANDARD
TZOFFSETFROM:-0700
TZOFFSETTO:-0800
TZNAME:PST
DTSTART:20251102T090000
END:STANDARD
BEGIN:DAYLIGHT
TZOFFSETFROM:-0800
TZOFFSETTO:-0700
TZNAME:PDT
DTSTART:20260308T100000
END:DAYLIGHT
BEGIN:STANDARD
TZOFFSETFROM:-0700
TZOFFSETTO:-0800
TZNAME:PST
DTSTART:20261101T090000
END:STANDARD
BEGIN:DAYLIGHT
TZOFFSETFROM:-0800
TZOFFSETTO:-0700
TZNAME:PDT
DTSTART:20270314T100000
END:DAYLIGHT
BEGIN:STANDARD
TZOFFSETFROM:-0700
TZOFFSETTO:-0800
TZNAME:PST
DTSTART:20271107T090000
END:STANDARD
END:VTIMEZONE
BEGIN:VEVENT
DTSTART;TZID=America/Los_Angeles:20260128T190000
DTEND;TZID=America/Los_Angeles:20260128T194000
DTSTAMP:20260422T033759
CREATED:20260123T070847Z
LAST-MODIFIED:20260123T070847Z
UID:10005119-1769626800-1769629200@solomontempleministries.org
SUMMARY:Word Life Transformation
DESCRIPTION:Wednesdays 7-7:40 PM\n(Zoom Classes)\nw/breakout sessions\nfor all age groups\nCall-in: 1(669) 900-6833\nPin Code: 8190 8582 609
URL:https://solomontempleministries.org/event/word-life-transformation/2026-01-28/
LOCATION:Facebook Live or Call-in.
END:VEVENT
BEGIN:VEVENT
DTSTART;TZID=America/Los_Angeles:20260128T120000
DTEND;TZID=America/Los_Angeles:20260128T120000
DTSTAMP:20260422T033759
CREATED:20260123T070243Z
LAST-MODIFIED:20260123T070420Z
UID:10003800-1769601600-1769601600@solomontempleministries.org
SUMMARY:Noonday Prayer
DESCRIPTION:Noonday Prayer 12-12:15 PM\nTues\, Wed & Thurs (Only)
URL:https://solomontempleministries.org/event/noonday-prayer/2026-01-28/
LOCATION:Facebook Live or Call-in.
END:VEVENT
BEGIN:VEVENT
DTSTART;TZID=America/Los_Angeles:20260127T190000
DTEND;TZID=America/Los_Angeles:20260127T193000
DTSTAMP:20260422T033759
CREATED:20260123T070615Z
LAST-MODIFIED:20260123T070615Z
UID:10004593-1769540400-1769542200@solomontempleministries.org
SUMMARY:Word Life Weekly Bible Study
DESCRIPTION:Tuesdays 7:00-7:30 PM\nJoin via Facebook Live\nPastor Victor S. Brice\nCall-in: 1(888) 633-1082
URL:https://solomontempleministries.org/event/word-life-weekly-bible-study/2026-01-27/
LOCATION:Facebook Live or Call-in.
END:VEVENT
BEGIN:VEVENT
DTSTART;TZID=America/Los_Angeles:20260127T180000
DTEND;TZID=America/Los_Angeles:20260127T181500
DTSTAMP:20260422T033759
CREATED:20260123T070739Z
LAST-MODIFIED:20260123T070937Z
UID:10005383-1769536800-1769537700@solomontempleministries.org
SUMMARY:Millennial Prayer Call
DESCRIPTION:Tuesdays 6:00-6:15 PM\nCall-in: 1(888) 633-1082
URL:https://solomontempleministries.org/event/millennial-prayer-call/2026-01-27/
LOCATION:Facebook Live or Call-in.
END:VEVENT
BEGIN:VEVENT
DTSTART;TZID=America/Los_Angeles:20260127T120000
DTEND;TZID=America/Los_Angeles:20260127T120000
DTSTAMP:20260422T033759
CREATED:20260123T070243Z
LAST-MODIFIED:20260123T070420Z
UID:10003799-1769515200-1769515200@solomontempleministries.org
SUMMARY:Noonday Prayer
DESCRIPTION:Noonday Prayer 12-12:15 PM\nTues\, Wed & Thurs (Only)
URL:https://solomontempleministries.org/event/noonday-prayer/2026-01-27/
LOCATION:Facebook Live or Call-in.
END:VEVENT
BEGIN:VEVENT
DTSTART;TZID=America/Los_Angeles:20260122T120000
DTEND;TZID=America/Los_Angeles:20260122T120000
DTSTAMP:20260422T033759
CREATED:20260123T070243Z
LAST-MODIFIED:20260123T070420Z
UID:10003798-1769083200-1769083200@solomontempleministries.org
SUMMARY:Noonday Prayer
DESCRIPTION:Noonday Prayer 12-12:15 PM\nTues\, Wed & Thurs (Only)
URL:https://solomontempleministries.org/event/noonday-prayer/2026-01-22/
LOCATION:Facebook Live or Call-in.
END:VEVENT
BEGIN:VEVENT
DTSTART;TZID=America/Los_Angeles:20260121T190000
DTEND;TZID=America/Los_Angeles:20260121T194000
DTSTAMP:20260422T033759
CREATED:20260123T070847Z
LAST-MODIFIED:20260123T070847Z
UID:10005118-1769022000-1769024400@solomontempleministries.org
SUMMARY:Word Life Transformation
DESCRIPTION:Wednesdays 7-7:40 PM\n(Zoom Classes)\nw/breakout sessions\nfor all age groups\nCall-in: 1(669) 900-6833\nPin Code: 8190 8582 609
URL:https://solomontempleministries.org/event/word-life-transformation/2026-01-21/
LOCATION:Facebook Live or Call-in.
END:VEVENT
BEGIN:VEVENT
DTSTART;TZID=America/Los_Angeles:20260121T120000
DTEND;TZID=America/Los_Angeles:20260121T120000
DTSTAMP:20260422T033759
CREATED:20260123T070243Z
LAST-MODIFIED:20260123T070420Z
UID:10004589-1768996800-1768996800@solomontempleministries.org
SUMMARY:Noonday Prayer
DESCRIPTION:Noonday Prayer 12-12:15 PM\nTues\, Wed & Thurs (Only)
URL:https://solomontempleministries.org/event/noonday-prayer/2026-01-21/
LOCATION:Facebook Live or Call-in.
END:VEVENT
BEGIN:VEVENT
DTSTART;TZID=America/Los_Angeles:20260120T190000
DTEND;TZID=America/Los_Angeles:20260120T193000
DTSTAMP:20260422T033759
CREATED:20260123T070615Z
LAST-MODIFIED:20260123T070615Z
UID:10004592-1768935600-1768937400@solomontempleministries.org
SUMMARY:Word Life Weekly Bible Study
DESCRIPTION:Tuesdays 7:00-7:30 PM\nJoin via Facebook Live\nPastor Victor S. Brice\nCall-in: 1(888) 633-1082
URL:https://solomontempleministries.org/event/word-life-weekly-bible-study/2026-01-20/
LOCATION:Facebook Live or Call-in.
END:VEVENT
BEGIN:VEVENT
DTSTART;TZID=America/Los_Angeles:20260120T180000
DTEND;TZID=America/Los_Angeles:20260120T181500
DTSTAMP:20260422T033759
CREATED:20260123T070739Z
LAST-MODIFIED:20260123T070937Z
UID:10005382-1768932000-1768932900@solomontempleministries.org
SUMMARY:Millennial Prayer Call
DESCRIPTION:Tuesdays 6:00-6:15 PM\nCall-in: 1(888) 633-1082
URL:https://solomontempleministries.org/event/millennial-prayer-call/2026-01-20/
LOCATION:Facebook Live or Call-in.
END:VEVENT
BEGIN:VEVENT
DTSTART;TZID=America/Los_Angeles:20260120T120000
DTEND;TZID=America/Los_Angeles:20260120T120000
DTSTAMP:20260422T033759
CREATED:20260123T070243Z
LAST-MODIFIED:20260123T070420Z
UID:10004588-1768910400-1768910400@solomontempleministries.org
SUMMARY:Noonday Prayer
DESCRIPTION:Noonday Prayer 12-12:15 PM\nTues\, Wed & Thurs (Only)
URL:https://solomontempleministries.org/event/noonday-prayer/2026-01-20/
LOCATION:Facebook Live or Call-in.
END:VEVENT
BEGIN:VEVENT
DTSTART;TZID=America/Los_Angeles:20260115T120000
DTEND;TZID=America/Los_Angeles:20260115T120000
DTSTAMP:20260422T033759
CREATED:20260123T070243Z
LAST-MODIFIED:20260123T070420Z
UID:10004587-1768478400-1768478400@solomontempleministries.org
SUMMARY:Noonday Prayer
DESCRIPTION:Noonday Prayer 12-12:15 PM\nTues\, Wed & Thurs (Only)
URL:https://solomontempleministries.org/event/noonday-prayer/2026-01-15/
LOCATION:Facebook Live or Call-in.
END:VEVENT
BEGIN:VEVENT
DTSTART;TZID=America/Los_Angeles:20260114T120000
DTEND;TZID=America/Los_Angeles:20260114T120000
DTSTAMP:20260422T033759
CREATED:20260123T070243Z
LAST-MODIFIED:20260123T070420Z
UID:10004586-1768392000-1768392000@solomontempleministries.org
SUMMARY:Noonday Prayer
DESCRIPTION:Noonday Prayer 12-12:15 PM\nTues\, Wed & Thurs (Only)
URL:https://solomontempleministries.org/event/noonday-prayer/2026-01-14/
LOCATION:Facebook Live or Call-in.
END:VEVENT
BEGIN:VEVENT
DTSTART;TZID=America/Los_Angeles:20260113T190000
DTEND;TZID=America/Los_Angeles:20260113T193000
DTSTAMP:20260422T033759
CREATED:20260123T070615Z
LAST-MODIFIED:20260123T070615Z
UID:10004591-1768330800-1768332600@solomontempleministries.org
SUMMARY:Word Life Weekly Bible Study
DESCRIPTION:Tuesdays 7:00-7:30 PM\nJoin via Facebook Live\nPastor Victor S. Brice\nCall-in: 1(888) 633-1082
URL:https://solomontempleministries.org/event/word-life-weekly-bible-study/2026-01-13/
LOCATION:Facebook Live or Call-in.
END:VEVENT
BEGIN:VEVENT
DTSTART;TZID=America/Los_Angeles:20260113T180000
DTEND;TZID=America/Los_Angeles:20260113T181500
DTSTAMP:20260422T033759
CREATED:20260123T070739Z
LAST-MODIFIED:20260123T070937Z
UID:10005381-1768327200-1768328100@solomontempleministries.org
SUMMARY:Millennial Prayer Call
DESCRIPTION:Tuesdays 6:00-6:15 PM\nCall-in: 1(888) 633-1082
URL:https://solomontempleministries.org/event/millennial-prayer-call/2026-01-13/
LOCATION:Facebook Live or Call-in.
END:VEVENT
BEGIN:VEVENT
DTSTART;TZID=America/Los_Angeles:20260113T120000
DTEND;TZID=America/Los_Angeles:20260113T120000
DTSTAMP:20260422T033759
CREATED:20260123T070243Z
LAST-MODIFIED:20260123T070420Z
UID:10004585-1768305600-1768305600@solomontempleministries.org
SUMMARY:Noonday Prayer
DESCRIPTION:Noonday Prayer 12-12:15 PM\nTues\, Wed & Thurs (Only)
URL:https://solomontempleministries.org/event/noonday-prayer/2026-01-13/
LOCATION:Facebook Live or Call-in.
END:VEVENT
BEGIN:VEVENT
DTSTART;TZID=America/Los_Angeles:20260108T120000
DTEND;TZID=America/Los_Angeles:20260108T120000
DTSTAMP:20260422T033759
CREATED:20260123T070243Z
LAST-MODIFIED:20260123T070420Z
UID:10004584-1767873600-1767873600@solomontempleministries.org
SUMMARY:Noonday Prayer
DESCRIPTION:Noonday Prayer 12-12:15 PM\nTues\, Wed & Thurs (Only)
URL:https://solomontempleministries.org/event/noonday-prayer/2026-01-08/
LOCATION:Facebook Live or Call-in.
END:VEVENT
BEGIN:VEVENT
DTSTART;TZID=America/Los_Angeles:20260107T120000
DTEND;TZID=America/Los_Angeles:20260107T120000
DTSTAMP:20260422T033759
CREATED:20260123T070243Z
LAST-MODIFIED:20260123T070420Z
UID:10004583-1767787200-1767787200@solomontempleministries.org
SUMMARY:Noonday Prayer
DESCRIPTION:Noonday Prayer 12-12:15 PM\nTues\, Wed & Thurs (Only)
URL:https://solomontempleministries.org/event/noonday-prayer/2026-01-07/
LOCATION:Facebook Live or Call-in.
END:VEVENT
BEGIN:VEVENT
DTSTART;TZID=America/Los_Angeles:20260106T190000
DTEND;TZID=America/Los_Angeles:20260106T193000
DTSTAMP:20260422T033759
CREATED:20260123T070615Z
LAST-MODIFIED:20260123T070615Z
UID:10004590-1767726000-1767727800@solomontempleministries.org
SUMMARY:Word Life Weekly Bible Study
DESCRIPTION:Tuesdays 7:00-7:30 PM\nJoin via Facebook Live\nPastor Victor S. Brice\nCall-in: 1(888) 633-1082
URL:https://solomontempleministries.org/event/word-life-weekly-bible-study/2026-01-06/
LOCATION:Facebook Live or Call-in.
END:VEVENT
BEGIN:VEVENT
DTSTART;TZID=America/Los_Angeles:20260106T180000
DTEND;TZID=America/Los_Angeles:20260106T181500
DTSTAMP:20260422T033759
CREATED:20260123T070739Z
LAST-MODIFIED:20260123T070937Z
UID:10005380-1767722400-1767723300@solomontempleministries.org
SUMMARY:Millennial Prayer Call
DESCRIPTION:Tuesdays 6:00-6:15 PM\nCall-in: 1(888) 633-1082
URL:https://solomontempleministries.org/event/millennial-prayer-call/2026-01-06/
LOCATION:Facebook Live or Call-in.
END:VEVENT
BEGIN:VEVENT
DTSTART;TZID=America/Los_Angeles:20260106T120000
DTEND;TZID=America/Los_Angeles:20260106T120000
DTSTAMP:20260422T033759
CREATED:20260123T070243Z
LAST-MODIFIED:20260123T070420Z
UID:10004582-1767700800-1767700800@solomontempleministries.org
SUMMARY:Noonday Prayer
DESCRIPTION:Noonday Prayer 12-12:15 PM\nTues\, Wed & Thurs (Only)
URL:https://solomontempleministries.org/event/noonday-prayer/2026-01-06/
LOCATION:Facebook Live or Call-in.
END:VEVENT
BEGIN:VEVENT
DTSTART;TZID=America/Los_Angeles:20260101T120000
DTEND;TZID=America/Los_Angeles:20260101T120000
DTSTAMP:20260422T033759
CREATED:20260123T070243Z
LAST-MODIFIED:20260123T070420Z
UID:10004581-1767268800-1767268800@solomontempleministries.org
SUMMARY:Noonday Prayer
DESCRIPTION:Noonday Prayer 12-12:15 PM\nTues\, Wed & Thurs (Only)
URL:https://solomontempleministries.org/event/noonday-prayer/2026-01-01/
LOCATION:Facebook Live or Call-in.
END:VEVENT
END:VCALENDAR