BEGIN:VCALENDAR
VERSION:2.0
PRODID:-//Solomon Temple Ministries International - ECPv6.15.18//NONSGML v1.0//EN
CALSCALE:GREGORIAN
METHOD:PUBLISH
X-WR-CALNAME:Solomon Temple Ministries International
X-ORIGINAL-URL:https://solomontempleministries.org
X-WR-CALDESC:Events for Solomon Temple Ministries International
REFRESH-INTERVAL;VALUE=DURATION:PT1H
X-Robots-Tag:noindex
X-PUBLISHED-TTL:PT1H
BEGIN:VTIMEZONE
TZID:America/Los_Angeles
BEGIN:DAYLIGHT
TZOFFSETFROM:-0800
TZOFFSETTO:-0700
TZNAME:PDT
DTSTART:20250309T100000
END:DAYLIGHT
BEGIN:STANDARD
TZOFFSETFROM:-0700
TZOFFSETTO:-0800
TZNAME:PST
DTSTART:20251102T090000
END:STANDARD
BEGIN:DAYLIGHT
TZOFFSETFROM:-0800
TZOFFSETTO:-0700
TZNAME:PDT
DTSTART:20260308T100000
END:DAYLIGHT
BEGIN:STANDARD
TZOFFSETFROM:-0700
TZOFFSETTO:-0800
TZNAME:PST
DTSTART:20261101T090000
END:STANDARD
BEGIN:DAYLIGHT
TZOFFSETFROM:-0800
TZOFFSETTO:-0700
TZNAME:PDT
DTSTART:20270314T100000
END:DAYLIGHT
BEGIN:STANDARD
TZOFFSETFROM:-0700
TZOFFSETTO:-0800
TZNAME:PST
DTSTART:20271107T090000
END:STANDARD
END:VTIMEZONE
BEGIN:VEVENT
DTSTART;TZID=America/Los_Angeles:20260416T120000
DTEND;TZID=America/Los_Angeles:20260416T120000
DTSTAMP:20260420T030739
CREATED:20260123T070243Z
LAST-MODIFIED:20260123T070420Z
UID:10003834-1776340800-1776340800@solomontempleministries.org
SUMMARY:Noonday Prayer
DESCRIPTION:Noonday Prayer 12-12:15 PM\nTues\, Wed & Thurs (Only)
URL:https://solomontempleministries.org/event/noonday-prayer/2026-04-16/
LOCATION:Facebook Live or Call-in.
END:VEVENT
BEGIN:VEVENT
DTSTART;TZID=America/Los_Angeles:20260415T190000
DTEND;TZID=America/Los_Angeles:20260415T194000
DTSTAMP:20260420T030739
CREATED:20260123T070847Z
LAST-MODIFIED:20260123T070847Z
UID:10005130-1776279600-1776282000@solomontempleministries.org
SUMMARY:Word Life Transformation
DESCRIPTION:Wednesdays 7-7:40 PM\n(Zoom Classes)\nw/breakout sessions\nfor all age groups\nCall-in: 1(669) 900-6833\nPin Code: 8190 8582 609
URL:https://solomontempleministries.org/event/word-life-transformation/2026-04-15/
LOCATION:Facebook Live or Call-in.
END:VEVENT
BEGIN:VEVENT
DTSTART;TZID=America/Los_Angeles:20260415T120000
DTEND;TZID=America/Los_Angeles:20260415T120000
DTSTAMP:20260420T030739
CREATED:20260123T070243Z
LAST-MODIFIED:20260123T070420Z
UID:10003833-1776254400-1776254400@solomontempleministries.org
SUMMARY:Noonday Prayer
DESCRIPTION:Noonday Prayer 12-12:15 PM\nTues\, Wed & Thurs (Only)
URL:https://solomontempleministries.org/event/noonday-prayer/2026-04-15/
LOCATION:Facebook Live or Call-in.
END:VEVENT
BEGIN:VEVENT
DTSTART;TZID=America/Los_Angeles:20260414T190000
DTEND;TZID=America/Los_Angeles:20260414T193000
DTSTAMP:20260420T030739
CREATED:20260123T070615Z
LAST-MODIFIED:20260123T070615Z
UID:10004604-1776193200-1776195000@solomontempleministries.org
SUMMARY:Word Life Weekly Bible Study
DESCRIPTION:Tuesdays 7:00-7:30 PM\nJoin via Facebook Live\nPastor Victor S. Brice\nCall-in: 1(888) 633-1082
URL:https://solomontempleministries.org/event/word-life-weekly-bible-study/2026-04-14/
LOCATION:Facebook Live or Call-in.
END:VEVENT
BEGIN:VEVENT
DTSTART;TZID=America/Los_Angeles:20260414T180000
DTEND;TZID=America/Los_Angeles:20260414T181500
DTSTAMP:20260420T030739
CREATED:20260123T070739Z
LAST-MODIFIED:20260123T070937Z
UID:10005394-1776189600-1776190500@solomontempleministries.org
SUMMARY:Millennial Prayer Call
DESCRIPTION:Tuesdays 6:00-6:15 PM\nCall-in: 1(888) 633-1082
URL:https://solomontempleministries.org/event/millennial-prayer-call/2026-04-14/
LOCATION:Facebook Live or Call-in.
END:VEVENT
BEGIN:VEVENT
DTSTART;TZID=America/Los_Angeles:20260414T120000
DTEND;TZID=America/Los_Angeles:20260414T120000
DTSTAMP:20260420T030739
CREATED:20260123T070243Z
LAST-MODIFIED:20260123T070420Z
UID:10003832-1776168000-1776168000@solomontempleministries.org
SUMMARY:Noonday Prayer
DESCRIPTION:Noonday Prayer 12-12:15 PM\nTues\, Wed & Thurs (Only)
URL:https://solomontempleministries.org/event/noonday-prayer/2026-04-14/
LOCATION:Facebook Live or Call-in.
END:VEVENT
BEGIN:VEVENT
DTSTART;TZID=America/Los_Angeles:20260409T120000
DTEND;TZID=America/Los_Angeles:20260409T120000
DTSTAMP:20260420T030739
CREATED:20260123T070243Z
LAST-MODIFIED:20260123T070420Z
UID:10003831-1775736000-1775736000@solomontempleministries.org
SUMMARY:Noonday Prayer
DESCRIPTION:Noonday Prayer 12-12:15 PM\nTues\, Wed & Thurs (Only)
URL:https://solomontempleministries.org/event/noonday-prayer/2026-04-09/
LOCATION:Facebook Live or Call-in.
END:VEVENT
BEGIN:VEVENT
DTSTART;TZID=America/Los_Angeles:20260408T190000
DTEND;TZID=America/Los_Angeles:20260408T194000
DTSTAMP:20260420T030739
CREATED:20260123T070847Z
LAST-MODIFIED:20260123T070847Z
UID:10005129-1775674800-1775677200@solomontempleministries.org
SUMMARY:Word Life Transformation
DESCRIPTION:Wednesdays 7-7:40 PM\n(Zoom Classes)\nw/breakout sessions\nfor all age groups\nCall-in: 1(669) 900-6833\nPin Code: 8190 8582 609
URL:https://solomontempleministries.org/event/word-life-transformation/2026-04-08/
LOCATION:Facebook Live or Call-in.
END:VEVENT
BEGIN:VEVENT
DTSTART;TZID=America/Los_Angeles:20260408T120000
DTEND;TZID=America/Los_Angeles:20260408T120000
DTSTAMP:20260420T030739
CREATED:20260123T070243Z
LAST-MODIFIED:20260123T070420Z
UID:10003830-1775649600-1775649600@solomontempleministries.org
SUMMARY:Noonday Prayer
DESCRIPTION:Noonday Prayer 12-12:15 PM\nTues\, Wed & Thurs (Only)
URL:https://solomontempleministries.org/event/noonday-prayer/2026-04-08/
LOCATION:Facebook Live or Call-in.
END:VEVENT
BEGIN:VEVENT
DTSTART;TZID=America/Los_Angeles:20260407T190000
DTEND;TZID=America/Los_Angeles:20260407T193000
DTSTAMP:20260420T030739
CREATED:20260123T070615Z
LAST-MODIFIED:20260123T070615Z
UID:10004603-1775588400-1775590200@solomontempleministries.org
SUMMARY:Word Life Weekly Bible Study
DESCRIPTION:Tuesdays 7:00-7:30 PM\nJoin via Facebook Live\nPastor Victor S. Brice\nCall-in: 1(888) 633-1082
URL:https://solomontempleministries.org/event/word-life-weekly-bible-study/2026-04-07/
LOCATION:Facebook Live or Call-in.
END:VEVENT
BEGIN:VEVENT
DTSTART;TZID=America/Los_Angeles:20260407T180000
DTEND;TZID=America/Los_Angeles:20260407T181500
DTSTAMP:20260420T030739
CREATED:20260123T070739Z
LAST-MODIFIED:20260123T070937Z
UID:10005393-1775584800-1775585700@solomontempleministries.org
SUMMARY:Millennial Prayer Call
DESCRIPTION:Tuesdays 6:00-6:15 PM\nCall-in: 1(888) 633-1082
URL:https://solomontempleministries.org/event/millennial-prayer-call/2026-04-07/
LOCATION:Facebook Live or Call-in.
END:VEVENT
BEGIN:VEVENT
DTSTART;TZID=America/Los_Angeles:20260407T120000
DTEND;TZID=America/Los_Angeles:20260407T120000
DTSTAMP:20260420T030739
CREATED:20260123T070243Z
LAST-MODIFIED:20260123T070420Z
UID:10003829-1775563200-1775563200@solomontempleministries.org
SUMMARY:Noonday Prayer
DESCRIPTION:Noonday Prayer 12-12:15 PM\nTues\, Wed & Thurs (Only)
URL:https://solomontempleministries.org/event/noonday-prayer/2026-04-07/
LOCATION:Facebook Live or Call-in.
END:VEVENT
BEGIN:VEVENT
DTSTART;TZID=America/Los_Angeles:20260402T120000
DTEND;TZID=America/Los_Angeles:20260402T120000
DTSTAMP:20260420T030739
CREATED:20260123T070243Z
LAST-MODIFIED:20260123T070420Z
UID:10003828-1775131200-1775131200@solomontempleministries.org
SUMMARY:Noonday Prayer
DESCRIPTION:Noonday Prayer 12-12:15 PM\nTues\, Wed & Thurs (Only)
URL:https://solomontempleministries.org/event/noonday-prayer/2026-04-02/
LOCATION:Facebook Live or Call-in.
END:VEVENT
BEGIN:VEVENT
DTSTART;TZID=America/Los_Angeles:20260401T190000
DTEND;TZID=America/Los_Angeles:20260401T194000
DTSTAMP:20260420T030739
CREATED:20260123T070847Z
LAST-MODIFIED:20260123T070847Z
UID:10005128-1775070000-1775072400@solomontempleministries.org
SUMMARY:Word Life Transformation
DESCRIPTION:Wednesdays 7-7:40 PM\n(Zoom Classes)\nw/breakout sessions\nfor all age groups\nCall-in: 1(669) 900-6833\nPin Code: 8190 8582 609
URL:https://solomontempleministries.org/event/word-life-transformation/2026-04-01/
LOCATION:Facebook Live or Call-in.
END:VEVENT
BEGIN:VEVENT
DTSTART;TZID=America/Los_Angeles:20260401T120000
DTEND;TZID=America/Los_Angeles:20260401T120000
DTSTAMP:20260420T030739
CREATED:20260123T070243Z
LAST-MODIFIED:20260123T070420Z
UID:10003827-1775044800-1775044800@solomontempleministries.org
SUMMARY:Noonday Prayer
DESCRIPTION:Noonday Prayer 12-12:15 PM\nTues\, Wed & Thurs (Only)
URL:https://solomontempleministries.org/event/noonday-prayer/2026-04-01/
LOCATION:Facebook Live or Call-in.
END:VEVENT
BEGIN:VEVENT
DTSTART;TZID=America/Los_Angeles:20260331T190000
DTEND;TZID=America/Los_Angeles:20260331T193000
DTSTAMP:20260420T030739
CREATED:20260123T070615Z
LAST-MODIFIED:20260123T070615Z
UID:10004602-1774983600-1774985400@solomontempleministries.org
SUMMARY:Word Life Weekly Bible Study
DESCRIPTION:Tuesdays 7:00-7:30 PM\nJoin via Facebook Live\nPastor Victor S. Brice\nCall-in: 1(888) 633-1082
URL:https://solomontempleministries.org/event/word-life-weekly-bible-study/2026-03-31/
LOCATION:Facebook Live or Call-in.
END:VEVENT
BEGIN:VEVENT
DTSTART;TZID=America/Los_Angeles:20260331T180000
DTEND;TZID=America/Los_Angeles:20260331T181500
DTSTAMP:20260420T030739
CREATED:20260123T070739Z
LAST-MODIFIED:20260123T070937Z
UID:10005392-1774980000-1774980900@solomontempleministries.org
SUMMARY:Millennial Prayer Call
DESCRIPTION:Tuesdays 6:00-6:15 PM\nCall-in: 1(888) 633-1082
URL:https://solomontempleministries.org/event/millennial-prayer-call/2026-03-31/
LOCATION:Facebook Live or Call-in.
END:VEVENT
BEGIN:VEVENT
DTSTART;TZID=America/Los_Angeles:20260331T120000
DTEND;TZID=America/Los_Angeles:20260331T120000
DTSTAMP:20260420T030739
CREATED:20260123T070243Z
LAST-MODIFIED:20260123T070420Z
UID:10003826-1774958400-1774958400@solomontempleministries.org
SUMMARY:Noonday Prayer
DESCRIPTION:Noonday Prayer 12-12:15 PM\nTues\, Wed & Thurs (Only)
URL:https://solomontempleministries.org/event/noonday-prayer/2026-03-31/
LOCATION:Facebook Live or Call-in.
END:VEVENT
BEGIN:VEVENT
DTSTART;TZID=America/Los_Angeles:20260326T120000
DTEND;TZID=America/Los_Angeles:20260326T120000
DTSTAMP:20260420T030739
CREATED:20260123T070243Z
LAST-MODIFIED:20260123T070420Z
UID:10003825-1774526400-1774526400@solomontempleministries.org
SUMMARY:Noonday Prayer
DESCRIPTION:Noonday Prayer 12-12:15 PM\nTues\, Wed & Thurs (Only)
URL:https://solomontempleministries.org/event/noonday-prayer/2026-03-26/
LOCATION:Facebook Live or Call-in.
END:VEVENT
BEGIN:VEVENT
DTSTART;TZID=America/Los_Angeles:20260325T190000
DTEND;TZID=America/Los_Angeles:20260325T194000
DTSTAMP:20260420T030739
CREATED:20260123T070847Z
LAST-MODIFIED:20260123T070847Z
UID:10005127-1774465200-1774467600@solomontempleministries.org
SUMMARY:Word Life Transformation
DESCRIPTION:Wednesdays 7-7:40 PM\n(Zoom Classes)\nw/breakout sessions\nfor all age groups\nCall-in: 1(669) 900-6833\nPin Code: 8190 8582 609
URL:https://solomontempleministries.org/event/word-life-transformation/2026-03-25/
LOCATION:Facebook Live or Call-in.
END:VEVENT
BEGIN:VEVENT
DTSTART;TZID=America/Los_Angeles:20260325T120000
DTEND;TZID=America/Los_Angeles:20260325T120000
DTSTAMP:20260420T030739
CREATED:20260123T070243Z
LAST-MODIFIED:20260123T070420Z
UID:10003824-1774440000-1774440000@solomontempleministries.org
SUMMARY:Noonday Prayer
DESCRIPTION:Noonday Prayer 12-12:15 PM\nTues\, Wed & Thurs (Only)
URL:https://solomontempleministries.org/event/noonday-prayer/2026-03-25/
LOCATION:Facebook Live or Call-in.
END:VEVENT
BEGIN:VEVENT
DTSTART;TZID=America/Los_Angeles:20260324T190000
DTEND;TZID=America/Los_Angeles:20260324T193000
DTSTAMP:20260420T030739
CREATED:20260123T070615Z
LAST-MODIFIED:20260123T070615Z
UID:10004601-1774378800-1774380600@solomontempleministries.org
SUMMARY:Word Life Weekly Bible Study
DESCRIPTION:Tuesdays 7:00-7:30 PM\nJoin via Facebook Live\nPastor Victor S. Brice\nCall-in: 1(888) 633-1082
URL:https://solomontempleministries.org/event/word-life-weekly-bible-study/2026-03-24/
LOCATION:Facebook Live or Call-in.
END:VEVENT
BEGIN:VEVENT
DTSTART;TZID=America/Los_Angeles:20260324T180000
DTEND;TZID=America/Los_Angeles:20260324T181500
DTSTAMP:20260420T030739
CREATED:20260123T070739Z
LAST-MODIFIED:20260123T070937Z
UID:10005391-1774375200-1774376100@solomontempleministries.org
SUMMARY:Millennial Prayer Call
DESCRIPTION:Tuesdays 6:00-6:15 PM\nCall-in: 1(888) 633-1082
URL:https://solomontempleministries.org/event/millennial-prayer-call/2026-03-24/
LOCATION:Facebook Live or Call-in.
END:VEVENT
BEGIN:VEVENT
DTSTART;TZID=America/Los_Angeles:20260324T120000
DTEND;TZID=America/Los_Angeles:20260324T120000
DTSTAMP:20260420T030739
CREATED:20260123T070243Z
LAST-MODIFIED:20260123T070420Z
UID:10003823-1774353600-1774353600@solomontempleministries.org
SUMMARY:Noonday Prayer
DESCRIPTION:Noonday Prayer 12-12:15 PM\nTues\, Wed & Thurs (Only)
URL:https://solomontempleministries.org/event/noonday-prayer/2026-03-24/
LOCATION:Facebook Live or Call-in.
END:VEVENT
BEGIN:VEVENT
DTSTART;TZID=America/Los_Angeles:20260319T120000
DTEND;TZID=America/Los_Angeles:20260319T120000
DTSTAMP:20260420T030739
CREATED:20260123T070243Z
LAST-MODIFIED:20260123T070420Z
UID:10003822-1773921600-1773921600@solomontempleministries.org
SUMMARY:Noonday Prayer
DESCRIPTION:Noonday Prayer 12-12:15 PM\nTues\, Wed & Thurs (Only)
URL:https://solomontempleministries.org/event/noonday-prayer/2026-03-19/
LOCATION:Facebook Live or Call-in.
END:VEVENT
BEGIN:VEVENT
DTSTART;TZID=America/Los_Angeles:20260318T190000
DTEND;TZID=America/Los_Angeles:20260318T194000
DTSTAMP:20260420T030739
CREATED:20260123T070847Z
LAST-MODIFIED:20260123T070847Z
UID:10005126-1773860400-1773862800@solomontempleministries.org
SUMMARY:Word Life Transformation
DESCRIPTION:Wednesdays 7-7:40 PM\n(Zoom Classes)\nw/breakout sessions\nfor all age groups\nCall-in: 1(669) 900-6833\nPin Code: 8190 8582 609
URL:https://solomontempleministries.org/event/word-life-transformation/2026-03-18/
LOCATION:Facebook Live or Call-in.
END:VEVENT
BEGIN:VEVENT
DTSTART;TZID=America/Los_Angeles:20260318T120000
DTEND;TZID=America/Los_Angeles:20260318T120000
DTSTAMP:20260420T030739
CREATED:20260123T070243Z
LAST-MODIFIED:20260123T070420Z
UID:10003821-1773835200-1773835200@solomontempleministries.org
SUMMARY:Noonday Prayer
DESCRIPTION:Noonday Prayer 12-12:15 PM\nTues\, Wed & Thurs (Only)
URL:https://solomontempleministries.org/event/noonday-prayer/2026-03-18/
LOCATION:Facebook Live or Call-in.
END:VEVENT
BEGIN:VEVENT
DTSTART;TZID=America/Los_Angeles:20260317T190000
DTEND;TZID=America/Los_Angeles:20260317T193000
DTSTAMP:20260420T030739
CREATED:20260123T070615Z
LAST-MODIFIED:20260123T070615Z
UID:10004600-1773774000-1773775800@solomontempleministries.org
SUMMARY:Word Life Weekly Bible Study
DESCRIPTION:Tuesdays 7:00-7:30 PM\nJoin via Facebook Live\nPastor Victor S. Brice\nCall-in: 1(888) 633-1082
URL:https://solomontempleministries.org/event/word-life-weekly-bible-study/2026-03-17/
LOCATION:Facebook Live or Call-in.
END:VEVENT
BEGIN:VEVENT
DTSTART;TZID=America/Los_Angeles:20260317T180000
DTEND;TZID=America/Los_Angeles:20260317T181500
DTSTAMP:20260420T030739
CREATED:20260123T070739Z
LAST-MODIFIED:20260123T070937Z
UID:10005390-1773770400-1773771300@solomontempleministries.org
SUMMARY:Millennial Prayer Call
DESCRIPTION:Tuesdays 6:00-6:15 PM\nCall-in: 1(888) 633-1082
URL:https://solomontempleministries.org/event/millennial-prayer-call/2026-03-17/
LOCATION:Facebook Live or Call-in.
END:VEVENT
BEGIN:VEVENT
DTSTART;TZID=America/Los_Angeles:20260317T120000
DTEND;TZID=America/Los_Angeles:20260317T120000
DTSTAMP:20260420T030739
CREATED:20260123T070243Z
LAST-MODIFIED:20260123T070420Z
UID:10003820-1773748800-1773748800@solomontempleministries.org
SUMMARY:Noonday Prayer
DESCRIPTION:Noonday Prayer 12-12:15 PM\nTues\, Wed & Thurs (Only)
URL:https://solomontempleministries.org/event/noonday-prayer/2026-03-17/
LOCATION:Facebook Live or Call-in.
END:VEVENT
END:VCALENDAR