BEGIN:VCALENDAR
VERSION:2.0
PRODID:-//Solomon Temple Ministries International - ECPv6.15.18//NONSGML v1.0//EN
CALSCALE:GREGORIAN
METHOD:PUBLISH
X-WR-CALNAME:Solomon Temple Ministries International
X-ORIGINAL-URL:https://solomontempleministries.org
X-WR-CALDESC:Events for Solomon Temple Ministries International
REFRESH-INTERVAL;VALUE=DURATION:PT1H
X-Robots-Tag:noindex
X-PUBLISHED-TTL:PT1H
BEGIN:VTIMEZONE
TZID:America/Los_Angeles
BEGIN:DAYLIGHT
TZOFFSETFROM:-0800
TZOFFSETTO:-0700
TZNAME:PDT
DTSTART:20250309T100000
END:DAYLIGHT
BEGIN:STANDARD
TZOFFSETFROM:-0700
TZOFFSETTO:-0800
TZNAME:PST
DTSTART:20251102T090000
END:STANDARD
BEGIN:DAYLIGHT
TZOFFSETFROM:-0800
TZOFFSETTO:-0700
TZNAME:PDT
DTSTART:20260308T100000
END:DAYLIGHT
BEGIN:STANDARD
TZOFFSETFROM:-0700
TZOFFSETTO:-0800
TZNAME:PST
DTSTART:20261101T090000
END:STANDARD
BEGIN:DAYLIGHT
TZOFFSETFROM:-0800
TZOFFSETTO:-0700
TZNAME:PDT
DTSTART:20270314T100000
END:DAYLIGHT
BEGIN:STANDARD
TZOFFSETFROM:-0700
TZOFFSETTO:-0800
TZNAME:PST
DTSTART:20271107T090000
END:STANDARD
END:VTIMEZONE
BEGIN:VEVENT
DTSTART;TZID=America/Los_Angeles:20260531T100000
DTEND;TZID=America/Los_Angeles:20260531T113000
DTSTAMP:20260424T072355
CREATED:20240201T183835Z
LAST-MODIFIED:20260123T064236Z
UID:10001516-1780221600-1780227000@solomontempleministries.org
SUMMARY:Sunday Service
DESCRIPTION:Praise and Worship / Inspirational Word
URL:https://solomontempleministries.org/event/sunday-service/2026-05-31/
LOCATION:Solomon Temple Ministries International\, 655 California Ave. Pittsburg\, CA 94565\, Pittsburg\, CA\, 94565\, United States
GEO:38.015057;-121.8774965
X-APPLE-STRUCTURED-LOCATION;VALUE=URI;X-ADDRESS=Solomon Temple Ministries International 655 California Ave. Pittsburg CA 94565 Pittsburg CA 94565 United States;X-APPLE-RADIUS=500;X-TITLE=655 California Ave. Pittsburg\, CA 94565:geo:-121.8774965,38.015057
END:VEVENT
BEGIN:VEVENT
DTSTART;TZID=America/Los_Angeles:20260602T120000
DTEND;TZID=America/Los_Angeles:20260602T120000
DTSTAMP:20260424T072355
CREATED:20260123T070243Z
LAST-MODIFIED:20260123T070420Z
UID:10003853-1780401600-1780401600@solomontempleministries.org
SUMMARY:Noonday Prayer
DESCRIPTION:Noonday Prayer 12-12:15 PM\nTues\, Wed & Thurs (Only)
URL:https://solomontempleministries.org/event/noonday-prayer/2026-06-02/
LOCATION:Facebook Live or Call-in.
END:VEVENT
BEGIN:VEVENT
DTSTART;TZID=America/Los_Angeles:20260603T120000
DTEND;TZID=America/Los_Angeles:20260603T120000
DTSTAMP:20260424T072355
CREATED:20260123T070243Z
LAST-MODIFIED:20260123T070420Z
UID:10003854-1780488000-1780488000@solomontempleministries.org
SUMMARY:Noonday Prayer
DESCRIPTION:Noonday Prayer 12-12:15 PM\nTues\, Wed & Thurs (Only)
URL:https://solomontempleministries.org/event/noonday-prayer/2026-06-03/
LOCATION:Facebook Live or Call-in.
END:VEVENT
BEGIN:VEVENT
DTSTART;TZID=America/Los_Angeles:20260604T120000
DTEND;TZID=America/Los_Angeles:20260604T120000
DTSTAMP:20260424T072355
CREATED:20260123T070243Z
LAST-MODIFIED:20260123T070420Z
UID:10003855-1780574400-1780574400@solomontempleministries.org
SUMMARY:Noonday Prayer
DESCRIPTION:Noonday Prayer 12-12:15 PM\nTues\, Wed & Thurs (Only)
URL:https://solomontempleministries.org/event/noonday-prayer/2026-06-04/
LOCATION:Facebook Live or Call-in.
END:VEVENT
BEGIN:VEVENT
DTSTART;TZID=America/Los_Angeles:20260607T100000
DTEND;TZID=America/Los_Angeles:20260607T113000
DTSTAMP:20260424T072355
CREATED:20240201T183835Z
LAST-MODIFIED:20260123T064236Z
UID:10001517-1780826400-1780831800@solomontempleministries.org
SUMMARY:Sunday Service
DESCRIPTION:Praise and Worship / Inspirational Word
URL:https://solomontempleministries.org/event/sunday-service/2026-06-07/
LOCATION:Solomon Temple Ministries International\, 655 California Ave. Pittsburg\, CA 94565\, Pittsburg\, CA\, 94565\, United States
GEO:38.015057;-121.8774965
X-APPLE-STRUCTURED-LOCATION;VALUE=URI;X-ADDRESS=Solomon Temple Ministries International 655 California Ave. Pittsburg CA 94565 Pittsburg CA 94565 United States;X-APPLE-RADIUS=500;X-TITLE=655 California Ave. Pittsburg\, CA 94565:geo:-121.8774965,38.015057
END:VEVENT
BEGIN:VEVENT
DTSTART;TZID=America/Los_Angeles:20260609T120000
DTEND;TZID=America/Los_Angeles:20260609T120000
DTSTAMP:20260424T072355
CREATED:20260123T070243Z
LAST-MODIFIED:20260123T070420Z
UID:10003856-1781006400-1781006400@solomontempleministries.org
SUMMARY:Noonday Prayer
DESCRIPTION:Noonday Prayer 12-12:15 PM\nTues\, Wed & Thurs (Only)
URL:https://solomontempleministries.org/event/noonday-prayer/2026-06-09/
LOCATION:Facebook Live or Call-in.
END:VEVENT
BEGIN:VEVENT
DTSTART;TZID=America/Los_Angeles:20260610T120000
DTEND;TZID=America/Los_Angeles:20260610T120000
DTSTAMP:20260424T072355
CREATED:20260123T070243Z
LAST-MODIFIED:20260123T070420Z
UID:10003857-1781092800-1781092800@solomontempleministries.org
SUMMARY:Noonday Prayer
DESCRIPTION:Noonday Prayer 12-12:15 PM\nTues\, Wed & Thurs (Only)
URL:https://solomontempleministries.org/event/noonday-prayer/2026-06-10/
LOCATION:Facebook Live or Call-in.
END:VEVENT
BEGIN:VEVENT
DTSTART;TZID=America/Los_Angeles:20260611T120000
DTEND;TZID=America/Los_Angeles:20260611T120000
DTSTAMP:20260424T072355
CREATED:20260123T070243Z
LAST-MODIFIED:20260123T070420Z
UID:10003858-1781179200-1781179200@solomontempleministries.org
SUMMARY:Noonday Prayer
DESCRIPTION:Noonday Prayer 12-12:15 PM\nTues\, Wed & Thurs (Only)
URL:https://solomontempleministries.org/event/noonday-prayer/2026-06-11/
LOCATION:Facebook Live or Call-in.
END:VEVENT
BEGIN:VEVENT
DTSTART;TZID=America/Los_Angeles:20260614T100000
DTEND;TZID=America/Los_Angeles:20260614T113000
DTSTAMP:20260424T072355
CREATED:20240201T183835Z
LAST-MODIFIED:20260123T064236Z
UID:10001518-1781431200-1781436600@solomontempleministries.org
SUMMARY:Sunday Service
DESCRIPTION:Praise and Worship / Inspirational Word
URL:https://solomontempleministries.org/event/sunday-service/2026-06-14/
LOCATION:Solomon Temple Ministries International\, 655 California Ave. Pittsburg\, CA 94565\, Pittsburg\, CA\, 94565\, United States
GEO:38.015057;-121.8774965
X-APPLE-STRUCTURED-LOCATION;VALUE=URI;X-ADDRESS=Solomon Temple Ministries International 655 California Ave. Pittsburg CA 94565 Pittsburg CA 94565 United States;X-APPLE-RADIUS=500;X-TITLE=655 California Ave. Pittsburg\, CA 94565:geo:-121.8774965,38.015057
END:VEVENT
BEGIN:VEVENT
DTSTART;TZID=America/Los_Angeles:20260616T120000
DTEND;TZID=America/Los_Angeles:20260616T120000
DTSTAMP:20260424T072355
CREATED:20260123T070243Z
LAST-MODIFIED:20260123T070420Z
UID:10003859-1781611200-1781611200@solomontempleministries.org
SUMMARY:Noonday Prayer
DESCRIPTION:Noonday Prayer 12-12:15 PM\nTues\, Wed & Thurs (Only)
URL:https://solomontempleministries.org/event/noonday-prayer/2026-06-16/
LOCATION:Facebook Live or Call-in.
END:VEVENT
BEGIN:VEVENT
DTSTART;TZID=America/Los_Angeles:20260617T120000
DTEND;TZID=America/Los_Angeles:20260617T120000
DTSTAMP:20260424T072355
CREATED:20260123T070243Z
LAST-MODIFIED:20260123T070420Z
UID:10003860-1781697600-1781697600@solomontempleministries.org
SUMMARY:Noonday Prayer
DESCRIPTION:Noonday Prayer 12-12:15 PM\nTues\, Wed & Thurs (Only)
URL:https://solomontempleministries.org/event/noonday-prayer/2026-06-17/
LOCATION:Facebook Live or Call-in.
END:VEVENT
BEGIN:VEVENT
DTSTART;TZID=America/Los_Angeles:20260618T120000
DTEND;TZID=America/Los_Angeles:20260618T120000
DTSTAMP:20260424T072355
CREATED:20260123T070243Z
LAST-MODIFIED:20260123T070420Z
UID:10003861-1781784000-1781784000@solomontempleministries.org
SUMMARY:Noonday Prayer
DESCRIPTION:Noonday Prayer 12-12:15 PM\nTues\, Wed & Thurs (Only)
URL:https://solomontempleministries.org/event/noonday-prayer/2026-06-18/
LOCATION:Facebook Live or Call-in.
END:VEVENT
BEGIN:VEVENT
DTSTART;TZID=America/Los_Angeles:20260621T100000
DTEND;TZID=America/Los_Angeles:20260621T113000
DTSTAMP:20260424T072355
CREATED:20240201T183835Z
LAST-MODIFIED:20260123T064236Z
UID:10001519-1782036000-1782041400@solomontempleministries.org
SUMMARY:Sunday Service
DESCRIPTION:Praise and Worship / Inspirational Word
URL:https://solomontempleministries.org/event/sunday-service/2026-06-21/
LOCATION:Solomon Temple Ministries International\, 655 California Ave. Pittsburg\, CA 94565\, Pittsburg\, CA\, 94565\, United States
GEO:38.015057;-121.8774965
X-APPLE-STRUCTURED-LOCATION;VALUE=URI;X-ADDRESS=Solomon Temple Ministries International 655 California Ave. Pittsburg CA 94565 Pittsburg CA 94565 United States;X-APPLE-RADIUS=500;X-TITLE=655 California Ave. Pittsburg\, CA 94565:geo:-121.8774965,38.015057
END:VEVENT
BEGIN:VEVENT
DTSTART;TZID=America/Los_Angeles:20260623T120000
DTEND;TZID=America/Los_Angeles:20260623T120000
DTSTAMP:20260424T072355
CREATED:20260123T070243Z
LAST-MODIFIED:20260123T070420Z
UID:10003862-1782216000-1782216000@solomontempleministries.org
SUMMARY:Noonday Prayer
DESCRIPTION:Noonday Prayer 12-12:15 PM\nTues\, Wed & Thurs (Only)
URL:https://solomontempleministries.org/event/noonday-prayer/2026-06-23/
LOCATION:Facebook Live or Call-in.
END:VEVENT
BEGIN:VEVENT
DTSTART;TZID=America/Los_Angeles:20260624T120000
DTEND;TZID=America/Los_Angeles:20260624T120000
DTSTAMP:20260424T072355
CREATED:20260123T070243Z
LAST-MODIFIED:20260123T070420Z
UID:10003863-1782302400-1782302400@solomontempleministries.org
SUMMARY:Noonday Prayer
DESCRIPTION:Noonday Prayer 12-12:15 PM\nTues\, Wed & Thurs (Only)
URL:https://solomontempleministries.org/event/noonday-prayer/2026-06-24/
LOCATION:Facebook Live or Call-in.
END:VEVENT
BEGIN:VEVENT
DTSTART;TZID=America/Los_Angeles:20260625T120000
DTEND;TZID=America/Los_Angeles:20260625T120000
DTSTAMP:20260424T072355
CREATED:20260123T070243Z
LAST-MODIFIED:20260123T070420Z
UID:10003864-1782388800-1782388800@solomontempleministries.org
SUMMARY:Noonday Prayer
DESCRIPTION:Noonday Prayer 12-12:15 PM\nTues\, Wed & Thurs (Only)
URL:https://solomontempleministries.org/event/noonday-prayer/2026-06-25/
LOCATION:Facebook Live or Call-in.
END:VEVENT
BEGIN:VEVENT
DTSTART;TZID=America/Los_Angeles:20260628T100000
DTEND;TZID=America/Los_Angeles:20260628T113000
DTSTAMP:20260424T072355
CREATED:20240201T183835Z
LAST-MODIFIED:20260123T064236Z
UID:10001520-1782640800-1782646200@solomontempleministries.org
SUMMARY:Sunday Service
DESCRIPTION:Praise and Worship / Inspirational Word
URL:https://solomontempleministries.org/event/sunday-service/2026-06-28/
LOCATION:Solomon Temple Ministries International\, 655 California Ave. Pittsburg\, CA 94565\, Pittsburg\, CA\, 94565\, United States
GEO:38.015057;-121.8774965
X-APPLE-STRUCTURED-LOCATION;VALUE=URI;X-ADDRESS=Solomon Temple Ministries International 655 California Ave. Pittsburg CA 94565 Pittsburg CA 94565 United States;X-APPLE-RADIUS=500;X-TITLE=655 California Ave. Pittsburg\, CA 94565:geo:-121.8774965,38.015057
END:VEVENT
BEGIN:VEVENT
DTSTART;TZID=America/Los_Angeles:20260630T120000
DTEND;TZID=America/Los_Angeles:20260630T120000
DTSTAMP:20260424T072355
CREATED:20260123T070243Z
LAST-MODIFIED:20260123T070420Z
UID:10003865-1782820800-1782820800@solomontempleministries.org
SUMMARY:Noonday Prayer
DESCRIPTION:Noonday Prayer 12-12:15 PM\nTues\, Wed & Thurs (Only)
URL:https://solomontempleministries.org/event/noonday-prayer/2026-06-30/
LOCATION:Facebook Live or Call-in.
END:VEVENT
BEGIN:VEVENT
DTSTART;TZID=America/Los_Angeles:20260701T120000
DTEND;TZID=America/Los_Angeles:20260701T120000
DTSTAMP:20260424T072355
CREATED:20260123T070243Z
LAST-MODIFIED:20260123T070420Z
UID:10003866-1782907200-1782907200@solomontempleministries.org
SUMMARY:Noonday Prayer
DESCRIPTION:Noonday Prayer 12-12:15 PM\nTues\, Wed & Thurs (Only)
URL:https://solomontempleministries.org/event/noonday-prayer/2026-07-01/
LOCATION:Facebook Live or Call-in.
END:VEVENT
BEGIN:VEVENT
DTSTART;TZID=America/Los_Angeles:20260702T120000
DTEND;TZID=America/Los_Angeles:20260702T120000
DTSTAMP:20260424T072355
CREATED:20260123T070243Z
LAST-MODIFIED:20260123T070420Z
UID:10003867-1782993600-1782993600@solomontempleministries.org
SUMMARY:Noonday Prayer
DESCRIPTION:Noonday Prayer 12-12:15 PM\nTues\, Wed & Thurs (Only)
URL:https://solomontempleministries.org/event/noonday-prayer/2026-07-02/
LOCATION:Facebook Live or Call-in.
END:VEVENT
BEGIN:VEVENT
DTSTART;TZID=America/Los_Angeles:20260705T100000
DTEND;TZID=America/Los_Angeles:20260705T113000
DTSTAMP:20260424T072355
CREATED:20240201T183835Z
LAST-MODIFIED:20260123T064236Z
UID:10001521-1783245600-1783251000@solomontempleministries.org
SUMMARY:Sunday Service
DESCRIPTION:Praise and Worship / Inspirational Word
URL:https://solomontempleministries.org/event/sunday-service/2026-07-05/
LOCATION:Solomon Temple Ministries International\, 655 California Ave. Pittsburg\, CA 94565\, Pittsburg\, CA\, 94565\, United States
GEO:38.015057;-121.8774965
X-APPLE-STRUCTURED-LOCATION;VALUE=URI;X-ADDRESS=Solomon Temple Ministries International 655 California Ave. Pittsburg CA 94565 Pittsburg CA 94565 United States;X-APPLE-RADIUS=500;X-TITLE=655 California Ave. Pittsburg\, CA 94565:geo:-121.8774965,38.015057
END:VEVENT
BEGIN:VEVENT
DTSTART;TZID=America/Los_Angeles:20260707T120000
DTEND;TZID=America/Los_Angeles:20260707T120000
DTSTAMP:20260424T072355
CREATED:20260123T070243Z
LAST-MODIFIED:20260123T070420Z
UID:10003868-1783425600-1783425600@solomontempleministries.org
SUMMARY:Noonday Prayer
DESCRIPTION:Noonday Prayer 12-12:15 PM\nTues\, Wed & Thurs (Only)
URL:https://solomontempleministries.org/event/noonday-prayer/2026-07-07/
LOCATION:Facebook Live or Call-in.
END:VEVENT
BEGIN:VEVENT
DTSTART;TZID=America/Los_Angeles:20260708T120000
DTEND;TZID=America/Los_Angeles:20260708T120000
DTSTAMP:20260424T072355
CREATED:20260123T070243Z
LAST-MODIFIED:20260123T070420Z
UID:10003869-1783512000-1783512000@solomontempleministries.org
SUMMARY:Noonday Prayer
DESCRIPTION:Noonday Prayer 12-12:15 PM\nTues\, Wed & Thurs (Only)
URL:https://solomontempleministries.org/event/noonday-prayer/2026-07-08/
LOCATION:Facebook Live or Call-in.
END:VEVENT
BEGIN:VEVENT
DTSTART;TZID=America/Los_Angeles:20260709T120000
DTEND;TZID=America/Los_Angeles:20260709T120000
DTSTAMP:20260424T072355
CREATED:20260123T070243Z
LAST-MODIFIED:20260123T070420Z
UID:10003870-1783598400-1783598400@solomontempleministries.org
SUMMARY:Noonday Prayer
DESCRIPTION:Noonday Prayer 12-12:15 PM\nTues\, Wed & Thurs (Only)
URL:https://solomontempleministries.org/event/noonday-prayer/2026-07-09/
LOCATION:Facebook Live or Call-in.
END:VEVENT
BEGIN:VEVENT
DTSTART;TZID=America/Los_Angeles:20260712T100000
DTEND;TZID=America/Los_Angeles:20260712T113000
DTSTAMP:20260424T072355
CREATED:20240201T183835Z
LAST-MODIFIED:20260123T064236Z
UID:10001522-1783850400-1783855800@solomontempleministries.org
SUMMARY:Sunday Service
DESCRIPTION:Praise and Worship / Inspirational Word
URL:https://solomontempleministries.org/event/sunday-service/2026-07-12/
LOCATION:Solomon Temple Ministries International\, 655 California Ave. Pittsburg\, CA 94565\, Pittsburg\, CA\, 94565\, United States
GEO:38.015057;-121.8774965
X-APPLE-STRUCTURED-LOCATION;VALUE=URI;X-ADDRESS=Solomon Temple Ministries International 655 California Ave. Pittsburg CA 94565 Pittsburg CA 94565 United States;X-APPLE-RADIUS=500;X-TITLE=655 California Ave. Pittsburg\, CA 94565:geo:-121.8774965,38.015057
END:VEVENT
BEGIN:VEVENT
DTSTART;TZID=America/Los_Angeles:20260714T120000
DTEND;TZID=America/Los_Angeles:20260714T120000
DTSTAMP:20260424T072355
CREATED:20260123T070243Z
LAST-MODIFIED:20260123T070420Z
UID:10003871-1784030400-1784030400@solomontempleministries.org
SUMMARY:Noonday Prayer
DESCRIPTION:Noonday Prayer 12-12:15 PM\nTues\, Wed & Thurs (Only)
URL:https://solomontempleministries.org/event/noonday-prayer/2026-07-14/
LOCATION:Facebook Live or Call-in.
END:VEVENT
BEGIN:VEVENT
DTSTART;TZID=America/Los_Angeles:20260715T120000
DTEND;TZID=America/Los_Angeles:20260715T120000
DTSTAMP:20260424T072355
CREATED:20260123T070243Z
LAST-MODIFIED:20260123T070420Z
UID:10003872-1784116800-1784116800@solomontempleministries.org
SUMMARY:Noonday Prayer
DESCRIPTION:Noonday Prayer 12-12:15 PM\nTues\, Wed & Thurs (Only)
URL:https://solomontempleministries.org/event/noonday-prayer/2026-07-15/
LOCATION:Facebook Live or Call-in.
END:VEVENT
BEGIN:VEVENT
DTSTART;TZID=America/Los_Angeles:20260716T120000
DTEND;TZID=America/Los_Angeles:20260716T120000
DTSTAMP:20260424T072355
CREATED:20260123T070243Z
LAST-MODIFIED:20260123T070420Z
UID:10003873-1784203200-1784203200@solomontempleministries.org
SUMMARY:Noonday Prayer
DESCRIPTION:Noonday Prayer 12-12:15 PM\nTues\, Wed & Thurs (Only)
URL:https://solomontempleministries.org/event/noonday-prayer/2026-07-16/
LOCATION:Facebook Live or Call-in.
END:VEVENT
BEGIN:VEVENT
DTSTART;TZID=America/Los_Angeles:20260719T100000
DTEND;TZID=America/Los_Angeles:20260719T113000
DTSTAMP:20260424T072355
CREATED:20240201T183835Z
LAST-MODIFIED:20260123T064236Z
UID:10001523-1784455200-1784460600@solomontempleministries.org
SUMMARY:Sunday Service
DESCRIPTION:Praise and Worship / Inspirational Word
URL:https://solomontempleministries.org/event/sunday-service/2026-07-19/
LOCATION:Solomon Temple Ministries International\, 655 California Ave. Pittsburg\, CA 94565\, Pittsburg\, CA\, 94565\, United States
GEO:38.015057;-121.8774965
X-APPLE-STRUCTURED-LOCATION;VALUE=URI;X-ADDRESS=Solomon Temple Ministries International 655 California Ave. Pittsburg CA 94565 Pittsburg CA 94565 United States;X-APPLE-RADIUS=500;X-TITLE=655 California Ave. Pittsburg\, CA 94565:geo:-121.8774965,38.015057
END:VEVENT
BEGIN:VEVENT
DTSTART;TZID=America/Los_Angeles:20260721T120000
DTEND;TZID=America/Los_Angeles:20260721T120000
DTSTAMP:20260424T072355
CREATED:20260123T070243Z
LAST-MODIFIED:20260123T070420Z
UID:10003874-1784635200-1784635200@solomontempleministries.org
SUMMARY:Noonday Prayer
DESCRIPTION:Noonday Prayer 12-12:15 PM\nTues\, Wed & Thurs (Only)
URL:https://solomontempleministries.org/event/noonday-prayer/2026-07-21/
LOCATION:Facebook Live or Call-in.
END:VEVENT
END:VCALENDAR