BEGIN:VCALENDAR
VERSION:2.0
PRODID:-//Solomon Temple Ministries International - ECPv6.15.18//NONSGML v1.0//EN
CALSCALE:GREGORIAN
METHOD:PUBLISH
X-ORIGINAL-URL:https://solomontempleministries.org
X-WR-CALDESC:Events for Solomon Temple Ministries International
REFRESH-INTERVAL;VALUE=DURATION:PT1H
X-Robots-Tag:noindex
X-PUBLISHED-TTL:PT1H
BEGIN:VTIMEZONE
TZID:America/Los_Angeles
BEGIN:DAYLIGHT
TZOFFSETFROM:-0800
TZOFFSETTO:-0700
TZNAME:PDT
DTSTART:20250309T100000
END:DAYLIGHT
BEGIN:STANDARD
TZOFFSETFROM:-0700
TZOFFSETTO:-0800
TZNAME:PST
DTSTART:20251102T090000
END:STANDARD
BEGIN:DAYLIGHT
TZOFFSETFROM:-0800
TZOFFSETTO:-0700
TZNAME:PDT
DTSTART:20260308T100000
END:DAYLIGHT
BEGIN:STANDARD
TZOFFSETFROM:-0700
TZOFFSETTO:-0800
TZNAME:PST
DTSTART:20261101T090000
END:STANDARD
BEGIN:DAYLIGHT
TZOFFSETFROM:-0800
TZOFFSETTO:-0700
TZNAME:PDT
DTSTART:20270314T100000
END:DAYLIGHT
BEGIN:STANDARD
TZOFFSETFROM:-0700
TZOFFSETTO:-0800
TZNAME:PST
DTSTART:20271107T090000
END:STANDARD
END:VTIMEZONE
BEGIN:VEVENT
DTSTART;TZID=America/Los_Angeles:20261110T120000
DTEND;TZID=America/Los_Angeles:20261110T120000
DTSTAMP:20260425T201611
CREATED:20260123T070243Z
LAST-MODIFIED:20260123T070420Z
UID:10003922-1794312000-1794312000@solomontempleministries.org
SUMMARY:Noonday Prayer
DESCRIPTION:Noonday Prayer 12-12:15 PM\nTues\, Wed & Thurs (Only)
URL:https://solomontempleministries.org/event/noonday-prayer/2026-11-10/
LOCATION:Facebook Live or Call-in.
END:VEVENT
BEGIN:VEVENT
DTSTART;TZID=America/Los_Angeles:20261110T173000
DTEND;TZID=America/Los_Angeles:20261110T174500
DTSTAMP:20260425T201611
CREATED:20260123T065842Z
LAST-MODIFIED:20260123T065842Z
UID:10002263-1794331800-1794332700@solomontempleministries.org
SUMMARY:Daily Intercessory Prayer
DESCRIPTION:Call-in: 1 (888) 633-1082\n5:30-5:45 AM
URL:https://solomontempleministries.org/event/daily-intercessory-prayer/2026-11-10/
LOCATION:Solomon Temple Ministries International\, 655 California Ave. Pittsburg\, CA 94565\, Pittsburg\, CA\, 94565\, United States
GEO:38.015057;-121.8774965
X-APPLE-STRUCTURED-LOCATION;VALUE=URI;X-ADDRESS=Solomon Temple Ministries International 655 California Ave. Pittsburg CA 94565 Pittsburg CA 94565 United States;X-APPLE-RADIUS=500;X-TITLE=655 California Ave. Pittsburg\, CA 94565:geo:-121.8774965,38.015057
END:VEVENT
BEGIN:VEVENT
DTSTART;TZID=America/Los_Angeles:20261110T180000
DTEND;TZID=America/Los_Angeles:20261110T181500
DTSTAMP:20260425T201611
CREATED:20260123T070739Z
LAST-MODIFIED:20260123T070937Z
UID:10005424-1794333600-1794334500@solomontempleministries.org
SUMMARY:Millennial Prayer Call
DESCRIPTION:Tuesdays 6:00-6:15 PM\nCall-in: 1(888) 633-1082
URL:https://solomontempleministries.org/event/millennial-prayer-call/2026-11-10/
LOCATION:Facebook Live or Call-in.
END:VEVENT
BEGIN:VEVENT
DTSTART;TZID=America/Los_Angeles:20261110T190000
DTEND;TZID=America/Los_Angeles:20261110T193000
DTSTAMP:20260425T201611
CREATED:20260123T070615Z
LAST-MODIFIED:20260123T070615Z
UID:10004634-1794337200-1794339000@solomontempleministries.org
SUMMARY:Word Life Weekly Bible Study
DESCRIPTION:Tuesdays 7:00-7:30 PM\nJoin via Facebook Live\nPastor Victor S. Brice\nCall-in: 1(888) 633-1082
URL:https://solomontempleministries.org/event/word-life-weekly-bible-study/2026-11-10/
LOCATION:Facebook Live or Call-in.
END:VEVENT
BEGIN:VEVENT
DTSTART;TZID=America/Los_Angeles:20261111T120000
DTEND;TZID=America/Los_Angeles:20261111T120000
DTSTAMP:20260425T201611
CREATED:20260123T070243Z
LAST-MODIFIED:20260123T070420Z
UID:10003923-1794398400-1794398400@solomontempleministries.org
SUMMARY:Noonday Prayer
DESCRIPTION:Noonday Prayer 12-12:15 PM\nTues\, Wed & Thurs (Only)
URL:https://solomontempleministries.org/event/noonday-prayer/2026-11-11/
LOCATION:Facebook Live or Call-in.
END:VEVENT
BEGIN:VEVENT
DTSTART;TZID=America/Los_Angeles:20261111T173000
DTEND;TZID=America/Los_Angeles:20261111T174500
DTSTAMP:20260425T201611
CREATED:20260123T065842Z
LAST-MODIFIED:20260123T065842Z
UID:10002264-1794418200-1794419100@solomontempleministries.org
SUMMARY:Daily Intercessory Prayer
DESCRIPTION:Call-in: 1 (888) 633-1082\n5:30-5:45 AM
URL:https://solomontempleministries.org/event/daily-intercessory-prayer/2026-11-11/
LOCATION:Solomon Temple Ministries International\, 655 California Ave. Pittsburg\, CA 94565\, Pittsburg\, CA\, 94565\, United States
GEO:38.015057;-121.8774965
X-APPLE-STRUCTURED-LOCATION;VALUE=URI;X-ADDRESS=Solomon Temple Ministries International 655 California Ave. Pittsburg CA 94565 Pittsburg CA 94565 United States;X-APPLE-RADIUS=500;X-TITLE=655 California Ave. Pittsburg\, CA 94565:geo:-121.8774965,38.015057
END:VEVENT
BEGIN:VEVENT
DTSTART;TZID=America/Los_Angeles:20261111T190000
DTEND;TZID=America/Los_Angeles:20261111T194000
DTSTAMP:20260425T201611
CREATED:20260123T070847Z
LAST-MODIFIED:20260123T070847Z
UID:10005160-1794423600-1794426000@solomontempleministries.org
SUMMARY:Word Life Transformation
DESCRIPTION:Wednesdays 7-7:40 PM\n(Zoom Classes)\nw/breakout sessions\nfor all age groups\nCall-in: 1(669) 900-6833\nPin Code: 8190 8582 609
URL:https://solomontempleministries.org/event/word-life-transformation/2026-11-11/
LOCATION:Facebook Live or Call-in.
END:VEVENT
BEGIN:VEVENT
DTSTART;TZID=America/Los_Angeles:20261112T120000
DTEND;TZID=America/Los_Angeles:20261112T120000
DTSTAMP:20260425T201611
CREATED:20260123T070243Z
LAST-MODIFIED:20260123T070420Z
UID:10003924-1794484800-1794484800@solomontempleministries.org
SUMMARY:Noonday Prayer
DESCRIPTION:Noonday Prayer 12-12:15 PM\nTues\, Wed & Thurs (Only)
URL:https://solomontempleministries.org/event/noonday-prayer/2026-11-12/
LOCATION:Facebook Live or Call-in.
END:VEVENT
BEGIN:VEVENT
DTSTART;TZID=America/Los_Angeles:20261112T173000
DTEND;TZID=America/Los_Angeles:20261112T174500
DTSTAMP:20260425T201611
CREATED:20260123T065842Z
LAST-MODIFIED:20260123T065842Z
UID:10002265-1794504600-1794505500@solomontempleministries.org
SUMMARY:Daily Intercessory Prayer
DESCRIPTION:Call-in: 1 (888) 633-1082\n5:30-5:45 AM
URL:https://solomontempleministries.org/event/daily-intercessory-prayer/2026-11-12/
LOCATION:Solomon Temple Ministries International\, 655 California Ave. Pittsburg\, CA 94565\, Pittsburg\, CA\, 94565\, United States
GEO:38.015057;-121.8774965
X-APPLE-STRUCTURED-LOCATION;VALUE=URI;X-ADDRESS=Solomon Temple Ministries International 655 California Ave. Pittsburg CA 94565 Pittsburg CA 94565 United States;X-APPLE-RADIUS=500;X-TITLE=655 California Ave. Pittsburg\, CA 94565:geo:-121.8774965,38.015057
END:VEVENT
BEGIN:VEVENT
DTSTART;TZID=America/Los_Angeles:20261113T173000
DTEND;TZID=America/Los_Angeles:20261113T174500
DTSTAMP:20260425T201611
CREATED:20260123T065842Z
LAST-MODIFIED:20260123T065842Z
UID:10002266-1794591000-1794591900@solomontempleministries.org
SUMMARY:Daily Intercessory Prayer
DESCRIPTION:Call-in: 1 (888) 633-1082\n5:30-5:45 AM
URL:https://solomontempleministries.org/event/daily-intercessory-prayer/2026-11-13/
LOCATION:Solomon Temple Ministries International\, 655 California Ave. Pittsburg\, CA 94565\, Pittsburg\, CA\, 94565\, United States
GEO:38.015057;-121.8774965
X-APPLE-STRUCTURED-LOCATION;VALUE=URI;X-ADDRESS=Solomon Temple Ministries International 655 California Ave. Pittsburg CA 94565 Pittsburg CA 94565 United States;X-APPLE-RADIUS=500;X-TITLE=655 California Ave. Pittsburg\, CA 94565:geo:-121.8774965,38.015057
END:VEVENT
BEGIN:VEVENT
DTSTART;TZID=America/Los_Angeles:20261114T173000
DTEND;TZID=America/Los_Angeles:20261114T174500
DTSTAMP:20260425T201611
CREATED:20260123T065842Z
LAST-MODIFIED:20260123T065842Z
UID:10002267-1794677400-1794678300@solomontempleministries.org
SUMMARY:Daily Intercessory Prayer
DESCRIPTION:Call-in: 1 (888) 633-1082\n5:30-5:45 AM
URL:https://solomontempleministries.org/event/daily-intercessory-prayer/2026-11-14/
LOCATION:Solomon Temple Ministries International\, 655 California Ave. Pittsburg\, CA 94565\, Pittsburg\, CA\, 94565\, United States
GEO:38.015057;-121.8774965
X-APPLE-STRUCTURED-LOCATION;VALUE=URI;X-ADDRESS=Solomon Temple Ministries International 655 California Ave. Pittsburg CA 94565 Pittsburg CA 94565 United States;X-APPLE-RADIUS=500;X-TITLE=655 California Ave. Pittsburg\, CA 94565:geo:-121.8774965,38.015057
END:VEVENT
BEGIN:VEVENT
DTSTART;TZID=America/Los_Angeles:20261115T100000
DTEND;TZID=America/Los_Angeles:20261115T113000
DTSTAMP:20260425T201611
CREATED:20240201T183835Z
LAST-MODIFIED:20260123T064236Z
UID:10001540-1794736800-1794742200@solomontempleministries.org
SUMMARY:Sunday Service
DESCRIPTION:Praise and Worship / Inspirational Word
URL:https://solomontempleministries.org/event/sunday-service/2026-11-15/
LOCATION:Solomon Temple Ministries International\, 655 California Ave. Pittsburg\, CA 94565\, Pittsburg\, CA\, 94565\, United States
GEO:38.015057;-121.8774965
X-APPLE-STRUCTURED-LOCATION;VALUE=URI;X-ADDRESS=Solomon Temple Ministries International 655 California Ave. Pittsburg CA 94565 Pittsburg CA 94565 United States;X-APPLE-RADIUS=500;X-TITLE=655 California Ave. Pittsburg\, CA 94565:geo:-121.8774965,38.015057
END:VEVENT
BEGIN:VEVENT
DTSTART;TZID=America/Los_Angeles:20261115T173000
DTEND;TZID=America/Los_Angeles:20261115T174500
DTSTAMP:20260425T201611
CREATED:20260123T065842Z
LAST-MODIFIED:20260123T065842Z
UID:10002268-1794763800-1794764700@solomontempleministries.org
SUMMARY:Daily Intercessory Prayer
DESCRIPTION:Call-in: 1 (888) 633-1082\n5:30-5:45 AM
URL:https://solomontempleministries.org/event/daily-intercessory-prayer/2026-11-15/
LOCATION:Solomon Temple Ministries International\, 655 California Ave. Pittsburg\, CA 94565\, Pittsburg\, CA\, 94565\, United States
GEO:38.015057;-121.8774965
X-APPLE-STRUCTURED-LOCATION;VALUE=URI;X-ADDRESS=Solomon Temple Ministries International 655 California Ave. Pittsburg CA 94565 Pittsburg CA 94565 United States;X-APPLE-RADIUS=500;X-TITLE=655 California Ave. Pittsburg\, CA 94565:geo:-121.8774965,38.015057
END:VEVENT
BEGIN:VEVENT
DTSTART;TZID=America/Los_Angeles:20261116T173000
DTEND;TZID=America/Los_Angeles:20261116T174500
DTSTAMP:20260425T201611
CREATED:20260123T065842Z
LAST-MODIFIED:20260123T065842Z
UID:10002269-1794850200-1794851100@solomontempleministries.org
SUMMARY:Daily Intercessory Prayer
DESCRIPTION:Call-in: 1 (888) 633-1082\n5:30-5:45 AM
URL:https://solomontempleministries.org/event/daily-intercessory-prayer/2026-11-16/
LOCATION:Solomon Temple Ministries International\, 655 California Ave. Pittsburg\, CA 94565\, Pittsburg\, CA\, 94565\, United States
GEO:38.015057;-121.8774965
X-APPLE-STRUCTURED-LOCATION;VALUE=URI;X-ADDRESS=Solomon Temple Ministries International 655 California Ave. Pittsburg CA 94565 Pittsburg CA 94565 United States;X-APPLE-RADIUS=500;X-TITLE=655 California Ave. Pittsburg\, CA 94565:geo:-121.8774965,38.015057
END:VEVENT
BEGIN:VEVENT
DTSTART;TZID=America/Los_Angeles:20261117T120000
DTEND;TZID=America/Los_Angeles:20261117T120000
DTSTAMP:20260425T201611
CREATED:20260123T070243Z
LAST-MODIFIED:20260123T070420Z
UID:10003925-1794916800-1794916800@solomontempleministries.org
SUMMARY:Noonday Prayer
DESCRIPTION:Noonday Prayer 12-12:15 PM\nTues\, Wed & Thurs (Only)
URL:https://solomontempleministries.org/event/noonday-prayer/2026-11-17/
LOCATION:Facebook Live or Call-in.
END:VEVENT
BEGIN:VEVENT
DTSTART;TZID=America/Los_Angeles:20261117T173000
DTEND;TZID=America/Los_Angeles:20261117T174500
DTSTAMP:20260425T201611
CREATED:20260123T065842Z
LAST-MODIFIED:20260123T065842Z
UID:10002270-1794936600-1794937500@solomontempleministries.org
SUMMARY:Daily Intercessory Prayer
DESCRIPTION:Call-in: 1 (888) 633-1082\n5:30-5:45 AM
URL:https://solomontempleministries.org/event/daily-intercessory-prayer/2026-11-17/
LOCATION:Solomon Temple Ministries International\, 655 California Ave. Pittsburg\, CA 94565\, Pittsburg\, CA\, 94565\, United States
GEO:38.015057;-121.8774965
X-APPLE-STRUCTURED-LOCATION;VALUE=URI;X-ADDRESS=Solomon Temple Ministries International 655 California Ave. Pittsburg CA 94565 Pittsburg CA 94565 United States;X-APPLE-RADIUS=500;X-TITLE=655 California Ave. Pittsburg\, CA 94565:geo:-121.8774965,38.015057
END:VEVENT
BEGIN:VEVENT
DTSTART;TZID=America/Los_Angeles:20261117T180000
DTEND;TZID=America/Los_Angeles:20261117T181500
DTSTAMP:20260425T201611
CREATED:20260123T070739Z
LAST-MODIFIED:20260123T070937Z
UID:10005425-1794938400-1794939300@solomontempleministries.org
SUMMARY:Millennial Prayer Call
DESCRIPTION:Tuesdays 6:00-6:15 PM\nCall-in: 1(888) 633-1082
URL:https://solomontempleministries.org/event/millennial-prayer-call/2026-11-17/
LOCATION:Facebook Live or Call-in.
END:VEVENT
BEGIN:VEVENT
DTSTART;TZID=America/Los_Angeles:20261117T190000
DTEND;TZID=America/Los_Angeles:20261117T193000
DTSTAMP:20260425T201611
CREATED:20260123T070615Z
LAST-MODIFIED:20260123T070615Z
UID:10004635-1794942000-1794943800@solomontempleministries.org
SUMMARY:Word Life Weekly Bible Study
DESCRIPTION:Tuesdays 7:00-7:30 PM\nJoin via Facebook Live\nPastor Victor S. Brice\nCall-in: 1(888) 633-1082
URL:https://solomontempleministries.org/event/word-life-weekly-bible-study/2026-11-17/
LOCATION:Facebook Live or Call-in.
END:VEVENT
BEGIN:VEVENT
DTSTART;TZID=America/Los_Angeles:20261118T120000
DTEND;TZID=America/Los_Angeles:20261118T120000
DTSTAMP:20260425T201611
CREATED:20260123T070243Z
LAST-MODIFIED:20260123T070420Z
UID:10003926-1795003200-1795003200@solomontempleministries.org
SUMMARY:Noonday Prayer
DESCRIPTION:Noonday Prayer 12-12:15 PM\nTues\, Wed & Thurs (Only)
URL:https://solomontempleministries.org/event/noonday-prayer/2026-11-18/
LOCATION:Facebook Live or Call-in.
END:VEVENT
BEGIN:VEVENT
DTSTART;TZID=America/Los_Angeles:20261118T173000
DTEND;TZID=America/Los_Angeles:20261118T174500
DTSTAMP:20260425T201611
CREATED:20260123T065842Z
LAST-MODIFIED:20260123T065842Z
UID:10002271-1795023000-1795023900@solomontempleministries.org
SUMMARY:Daily Intercessory Prayer
DESCRIPTION:Call-in: 1 (888) 633-1082\n5:30-5:45 AM
URL:https://solomontempleministries.org/event/daily-intercessory-prayer/2026-11-18/
LOCATION:Solomon Temple Ministries International\, 655 California Ave. Pittsburg\, CA 94565\, Pittsburg\, CA\, 94565\, United States
GEO:38.015057;-121.8774965
X-APPLE-STRUCTURED-LOCATION;VALUE=URI;X-ADDRESS=Solomon Temple Ministries International 655 California Ave. Pittsburg CA 94565 Pittsburg CA 94565 United States;X-APPLE-RADIUS=500;X-TITLE=655 California Ave. Pittsburg\, CA 94565:geo:-121.8774965,38.015057
END:VEVENT
BEGIN:VEVENT
DTSTART;TZID=America/Los_Angeles:20261118T190000
DTEND;TZID=America/Los_Angeles:20261118T194000
DTSTAMP:20260425T201611
CREATED:20260123T070847Z
LAST-MODIFIED:20260123T070847Z
UID:10005161-1795028400-1795030800@solomontempleministries.org
SUMMARY:Word Life Transformation
DESCRIPTION:Wednesdays 7-7:40 PM\n(Zoom Classes)\nw/breakout sessions\nfor all age groups\nCall-in: 1(669) 900-6833\nPin Code: 8190 8582 609
URL:https://solomontempleministries.org/event/word-life-transformation/2026-11-18/
LOCATION:Facebook Live or Call-in.
END:VEVENT
BEGIN:VEVENT
DTSTART;TZID=America/Los_Angeles:20261119T120000
DTEND;TZID=America/Los_Angeles:20261119T120000
DTSTAMP:20260425T201611
CREATED:20260123T070243Z
LAST-MODIFIED:20260123T070420Z
UID:10003927-1795089600-1795089600@solomontempleministries.org
SUMMARY:Noonday Prayer
DESCRIPTION:Noonday Prayer 12-12:15 PM\nTues\, Wed & Thurs (Only)
URL:https://solomontempleministries.org/event/noonday-prayer/2026-11-19/
LOCATION:Facebook Live or Call-in.
END:VEVENT
BEGIN:VEVENT
DTSTART;TZID=America/Los_Angeles:20261119T173000
DTEND;TZID=America/Los_Angeles:20261119T174500
DTSTAMP:20260425T201611
CREATED:20260123T065842Z
LAST-MODIFIED:20260123T065842Z
UID:10002272-1795109400-1795110300@solomontempleministries.org
SUMMARY:Daily Intercessory Prayer
DESCRIPTION:Call-in: 1 (888) 633-1082\n5:30-5:45 AM
URL:https://solomontempleministries.org/event/daily-intercessory-prayer/2026-11-19/
LOCATION:Solomon Temple Ministries International\, 655 California Ave. Pittsburg\, CA 94565\, Pittsburg\, CA\, 94565\, United States
GEO:38.015057;-121.8774965
X-APPLE-STRUCTURED-LOCATION;VALUE=URI;X-ADDRESS=Solomon Temple Ministries International 655 California Ave. Pittsburg CA 94565 Pittsburg CA 94565 United States;X-APPLE-RADIUS=500;X-TITLE=655 California Ave. Pittsburg\, CA 94565:geo:-121.8774965,38.015057
END:VEVENT
BEGIN:VEVENT
DTSTART;TZID=America/Los_Angeles:20261120T173000
DTEND;TZID=America/Los_Angeles:20261120T174500
DTSTAMP:20260425T201611
CREATED:20260123T065842Z
LAST-MODIFIED:20260123T065842Z
UID:10002273-1795195800-1795196700@solomontempleministries.org
SUMMARY:Daily Intercessory Prayer
DESCRIPTION:Call-in: 1 (888) 633-1082\n5:30-5:45 AM
URL:https://solomontempleministries.org/event/daily-intercessory-prayer/2026-11-20/
LOCATION:Solomon Temple Ministries International\, 655 California Ave. Pittsburg\, CA 94565\, Pittsburg\, CA\, 94565\, United States
GEO:38.015057;-121.8774965
X-APPLE-STRUCTURED-LOCATION;VALUE=URI;X-ADDRESS=Solomon Temple Ministries International 655 California Ave. Pittsburg CA 94565 Pittsburg CA 94565 United States;X-APPLE-RADIUS=500;X-TITLE=655 California Ave. Pittsburg\, CA 94565:geo:-121.8774965,38.015057
END:VEVENT
BEGIN:VEVENT
DTSTART;TZID=America/Los_Angeles:20261121T173000
DTEND;TZID=America/Los_Angeles:20261121T174500
DTSTAMP:20260425T201611
CREATED:20260123T065842Z
LAST-MODIFIED:20260123T065842Z
UID:10002274-1795282200-1795283100@solomontempleministries.org
SUMMARY:Daily Intercessory Prayer
DESCRIPTION:Call-in: 1 (888) 633-1082\n5:30-5:45 AM
URL:https://solomontempleministries.org/event/daily-intercessory-prayer/2026-11-21/
LOCATION:Solomon Temple Ministries International\, 655 California Ave. Pittsburg\, CA 94565\, Pittsburg\, CA\, 94565\, United States
GEO:38.015057;-121.8774965
X-APPLE-STRUCTURED-LOCATION;VALUE=URI;X-ADDRESS=Solomon Temple Ministries International 655 California Ave. Pittsburg CA 94565 Pittsburg CA 94565 United States;X-APPLE-RADIUS=500;X-TITLE=655 California Ave. Pittsburg\, CA 94565:geo:-121.8774965,38.015057
END:VEVENT
BEGIN:VEVENT
DTSTART;TZID=America/Los_Angeles:20261122T100000
DTEND;TZID=America/Los_Angeles:20261122T113000
DTSTAMP:20260425T201611
CREATED:20240201T183835Z
LAST-MODIFIED:20260123T064236Z
UID:10001541-1795341600-1795347000@solomontempleministries.org
SUMMARY:Sunday Service
DESCRIPTION:Praise and Worship / Inspirational Word
URL:https://solomontempleministries.org/event/sunday-service/2026-11-22/
LOCATION:Solomon Temple Ministries International\, 655 California Ave. Pittsburg\, CA 94565\, Pittsburg\, CA\, 94565\, United States
GEO:38.015057;-121.8774965
X-APPLE-STRUCTURED-LOCATION;VALUE=URI;X-ADDRESS=Solomon Temple Ministries International 655 California Ave. Pittsburg CA 94565 Pittsburg CA 94565 United States;X-APPLE-RADIUS=500;X-TITLE=655 California Ave. Pittsburg\, CA 94565:geo:-121.8774965,38.015057
END:VEVENT
BEGIN:VEVENT
DTSTART;TZID=America/Los_Angeles:20261122T173000
DTEND;TZID=America/Los_Angeles:20261122T174500
DTSTAMP:20260425T201611
CREATED:20260123T065842Z
LAST-MODIFIED:20260123T065842Z
UID:10002275-1795368600-1795369500@solomontempleministries.org
SUMMARY:Daily Intercessory Prayer
DESCRIPTION:Call-in: 1 (888) 633-1082\n5:30-5:45 AM
URL:https://solomontempleministries.org/event/daily-intercessory-prayer/2026-11-22/
LOCATION:Solomon Temple Ministries International\, 655 California Ave. Pittsburg\, CA 94565\, Pittsburg\, CA\, 94565\, United States
GEO:38.015057;-121.8774965
X-APPLE-STRUCTURED-LOCATION;VALUE=URI;X-ADDRESS=Solomon Temple Ministries International 655 California Ave. Pittsburg CA 94565 Pittsburg CA 94565 United States;X-APPLE-RADIUS=500;X-TITLE=655 California Ave. Pittsburg\, CA 94565:geo:-121.8774965,38.015057
END:VEVENT
BEGIN:VEVENT
DTSTART;TZID=America/Los_Angeles:20261123T173000
DTEND;TZID=America/Los_Angeles:20261123T174500
DTSTAMP:20260425T201611
CREATED:20260123T065842Z
LAST-MODIFIED:20260123T065842Z
UID:10002276-1795455000-1795455900@solomontempleministries.org
SUMMARY:Daily Intercessory Prayer
DESCRIPTION:Call-in: 1 (888) 633-1082\n5:30-5:45 AM
URL:https://solomontempleministries.org/event/daily-intercessory-prayer/2026-11-23/
LOCATION:Solomon Temple Ministries International\, 655 California Ave. Pittsburg\, CA 94565\, Pittsburg\, CA\, 94565\, United States
GEO:38.015057;-121.8774965
X-APPLE-STRUCTURED-LOCATION;VALUE=URI;X-ADDRESS=Solomon Temple Ministries International 655 California Ave. Pittsburg CA 94565 Pittsburg CA 94565 United States;X-APPLE-RADIUS=500;X-TITLE=655 California Ave. Pittsburg\, CA 94565:geo:-121.8774965,38.015057
END:VEVENT
BEGIN:VEVENT
DTSTART;TZID=America/Los_Angeles:20261124T120000
DTEND;TZID=America/Los_Angeles:20261124T120000
DTSTAMP:20260425T201611
CREATED:20260123T070243Z
LAST-MODIFIED:20260123T070420Z
UID:10003928-1795521600-1795521600@solomontempleministries.org
SUMMARY:Noonday Prayer
DESCRIPTION:Noonday Prayer 12-12:15 PM\nTues\, Wed & Thurs (Only)
URL:https://solomontempleministries.org/event/noonday-prayer/2026-11-24/
LOCATION:Facebook Live or Call-in.
END:VEVENT
BEGIN:VEVENT
DTSTART;TZID=America/Los_Angeles:20261124T173000
DTEND;TZID=America/Los_Angeles:20261124T174500
DTSTAMP:20260425T201611
CREATED:20260123T065842Z
LAST-MODIFIED:20260123T065842Z
UID:10002277-1795541400-1795542300@solomontempleministries.org
SUMMARY:Daily Intercessory Prayer
DESCRIPTION:Call-in: 1 (888) 633-1082\n5:30-5:45 AM
URL:https://solomontempleministries.org/event/daily-intercessory-prayer/2026-11-24/
LOCATION:Solomon Temple Ministries International\, 655 California Ave. Pittsburg\, CA 94565\, Pittsburg\, CA\, 94565\, United States
GEO:38.015057;-121.8774965
X-APPLE-STRUCTURED-LOCATION;VALUE=URI;X-ADDRESS=Solomon Temple Ministries International 655 California Ave. Pittsburg CA 94565 Pittsburg CA 94565 United States;X-APPLE-RADIUS=500;X-TITLE=655 California Ave. Pittsburg\, CA 94565:geo:-121.8774965,38.015057
END:VEVENT
END:VCALENDAR