BEGIN:VCALENDAR
VERSION:2.0
PRODID:-//Solomon Temple Ministries International - ECPv6.15.18//NONSGML v1.0//EN
CALSCALE:GREGORIAN
METHOD:PUBLISH
X-ORIGINAL-URL:https://solomontempleministries.org
X-WR-CALDESC:Events for Solomon Temple Ministries International
REFRESH-INTERVAL;VALUE=DURATION:PT1H
X-Robots-Tag:noindex
X-PUBLISHED-TTL:PT1H
BEGIN:VTIMEZONE
TZID:America/Los_Angeles
BEGIN:DAYLIGHT
TZOFFSETFROM:-0800
TZOFFSETTO:-0700
TZNAME:PDT
DTSTART:20250309T100000
END:DAYLIGHT
BEGIN:STANDARD
TZOFFSETFROM:-0700
TZOFFSETTO:-0800
TZNAME:PST
DTSTART:20251102T090000
END:STANDARD
BEGIN:DAYLIGHT
TZOFFSETFROM:-0800
TZOFFSETTO:-0700
TZNAME:PDT
DTSTART:20260308T100000
END:DAYLIGHT
BEGIN:STANDARD
TZOFFSETFROM:-0700
TZOFFSETTO:-0800
TZNAME:PST
DTSTART:20261101T090000
END:STANDARD
BEGIN:DAYLIGHT
TZOFFSETFROM:-0800
TZOFFSETTO:-0700
TZNAME:PDT
DTSTART:20270314T100000
END:DAYLIGHT
BEGIN:STANDARD
TZOFFSETFROM:-0700
TZOFFSETTO:-0800
TZNAME:PST
DTSTART:20271107T090000
END:STANDARD
END:VTIMEZONE
BEGIN:VEVENT
DTSTART;TZID=America/Los_Angeles:20260816T173000
DTEND;TZID=America/Los_Angeles:20260816T174500
DTSTAMP:20260421T082611
CREATED:20260123T065842Z
LAST-MODIFIED:20260123T065842Z
UID:10002177-1786901400-1786902300@solomontempleministries.org
SUMMARY:Daily Intercessory Prayer
DESCRIPTION:Call-in: 1 (888) 633-1082\n5:30-5:45 AM
URL:https://solomontempleministries.org/event/daily-intercessory-prayer/2026-08-16/
LOCATION:Solomon Temple Ministries International\, 655 California Ave. Pittsburg\, CA 94565\, Pittsburg\, CA\, 94565\, United States
GEO:38.015057;-121.8774965
X-APPLE-STRUCTURED-LOCATION;VALUE=URI;X-ADDRESS=Solomon Temple Ministries International 655 California Ave. Pittsburg CA 94565 Pittsburg CA 94565 United States;X-APPLE-RADIUS=500;X-TITLE=655 California Ave. Pittsburg\, CA 94565:geo:-121.8774965,38.015057
END:VEVENT
BEGIN:VEVENT
DTSTART;TZID=America/Los_Angeles:20260817T173000
DTEND;TZID=America/Los_Angeles:20260817T174500
DTSTAMP:20260421T082611
CREATED:20260123T065842Z
LAST-MODIFIED:20260123T065842Z
UID:10002178-1786987800-1786988700@solomontempleministries.org
SUMMARY:Daily Intercessory Prayer
DESCRIPTION:Call-in: 1 (888) 633-1082\n5:30-5:45 AM
URL:https://solomontempleministries.org/event/daily-intercessory-prayer/2026-08-17/
LOCATION:Solomon Temple Ministries International\, 655 California Ave. Pittsburg\, CA 94565\, Pittsburg\, CA\, 94565\, United States
GEO:38.015057;-121.8774965
X-APPLE-STRUCTURED-LOCATION;VALUE=URI;X-ADDRESS=Solomon Temple Ministries International 655 California Ave. Pittsburg CA 94565 Pittsburg CA 94565 United States;X-APPLE-RADIUS=500;X-TITLE=655 California Ave. Pittsburg\, CA 94565:geo:-121.8774965,38.015057
END:VEVENT
BEGIN:VEVENT
DTSTART;TZID=America/Los_Angeles:20260818T120000
DTEND;TZID=America/Los_Angeles:20260818T120000
DTSTAMP:20260421T082611
CREATED:20260123T070243Z
LAST-MODIFIED:20260123T070420Z
UID:10003886-1787054400-1787054400@solomontempleministries.org
SUMMARY:Noonday Prayer
DESCRIPTION:Noonday Prayer 12-12:15 PM\nTues\, Wed & Thurs (Only)
URL:https://solomontempleministries.org/event/noonday-prayer/2026-08-18/
LOCATION:Facebook Live or Call-in.
END:VEVENT
BEGIN:VEVENT
DTSTART;TZID=America/Los_Angeles:20260818T173000
DTEND;TZID=America/Los_Angeles:20260818T174500
DTSTAMP:20260421T082611
CREATED:20260123T065842Z
LAST-MODIFIED:20260123T065842Z
UID:10002179-1787074200-1787075100@solomontempleministries.org
SUMMARY:Daily Intercessory Prayer
DESCRIPTION:Call-in: 1 (888) 633-1082\n5:30-5:45 AM
URL:https://solomontempleministries.org/event/daily-intercessory-prayer/2026-08-18/
LOCATION:Solomon Temple Ministries International\, 655 California Ave. Pittsburg\, CA 94565\, Pittsburg\, CA\, 94565\, United States
GEO:38.015057;-121.8774965
X-APPLE-STRUCTURED-LOCATION;VALUE=URI;X-ADDRESS=Solomon Temple Ministries International 655 California Ave. Pittsburg CA 94565 Pittsburg CA 94565 United States;X-APPLE-RADIUS=500;X-TITLE=655 California Ave. Pittsburg\, CA 94565:geo:-121.8774965,38.015057
END:VEVENT
BEGIN:VEVENT
DTSTART;TZID=America/Los_Angeles:20260818T180000
DTEND;TZID=America/Los_Angeles:20260818T181500
DTSTAMP:20260421T082611
CREATED:20260123T070739Z
LAST-MODIFIED:20260123T070937Z
UID:10005412-1787076000-1787076900@solomontempleministries.org
SUMMARY:Millennial Prayer Call
DESCRIPTION:Tuesdays 6:00-6:15 PM\nCall-in: 1(888) 633-1082
URL:https://solomontempleministries.org/event/millennial-prayer-call/2026-08-18/
LOCATION:Facebook Live or Call-in.
END:VEVENT
BEGIN:VEVENT
DTSTART;TZID=America/Los_Angeles:20260818T190000
DTEND;TZID=America/Los_Angeles:20260818T193000
DTSTAMP:20260421T082611
CREATED:20260123T070615Z
LAST-MODIFIED:20260123T070615Z
UID:10004622-1787079600-1787081400@solomontempleministries.org
SUMMARY:Word Life Weekly Bible Study
DESCRIPTION:Tuesdays 7:00-7:30 PM\nJoin via Facebook Live\nPastor Victor S. Brice\nCall-in: 1(888) 633-1082
URL:https://solomontempleministries.org/event/word-life-weekly-bible-study/2026-08-18/
LOCATION:Facebook Live or Call-in.
END:VEVENT
BEGIN:VEVENT
DTSTART;TZID=America/Los_Angeles:20260819T120000
DTEND;TZID=America/Los_Angeles:20260819T120000
DTSTAMP:20260421T082611
CREATED:20260123T070243Z
LAST-MODIFIED:20260123T070420Z
UID:10003887-1787140800-1787140800@solomontempleministries.org
SUMMARY:Noonday Prayer
DESCRIPTION:Noonday Prayer 12-12:15 PM\nTues\, Wed & Thurs (Only)
URL:https://solomontempleministries.org/event/noonday-prayer/2026-08-19/
LOCATION:Facebook Live or Call-in.
END:VEVENT
BEGIN:VEVENT
DTSTART;TZID=America/Los_Angeles:20260819T173000
DTEND;TZID=America/Los_Angeles:20260819T174500
DTSTAMP:20260421T082611
CREATED:20260123T065842Z
LAST-MODIFIED:20260123T065842Z
UID:10002180-1787160600-1787161500@solomontempleministries.org
SUMMARY:Daily Intercessory Prayer
DESCRIPTION:Call-in: 1 (888) 633-1082\n5:30-5:45 AM
URL:https://solomontempleministries.org/event/daily-intercessory-prayer/2026-08-19/
LOCATION:Solomon Temple Ministries International\, 655 California Ave. Pittsburg\, CA 94565\, Pittsburg\, CA\, 94565\, United States
GEO:38.015057;-121.8774965
X-APPLE-STRUCTURED-LOCATION;VALUE=URI;X-ADDRESS=Solomon Temple Ministries International 655 California Ave. Pittsburg CA 94565 Pittsburg CA 94565 United States;X-APPLE-RADIUS=500;X-TITLE=655 California Ave. Pittsburg\, CA 94565:geo:-121.8774965,38.015057
END:VEVENT
BEGIN:VEVENT
DTSTART;TZID=America/Los_Angeles:20260819T190000
DTEND;TZID=America/Los_Angeles:20260819T194000
DTSTAMP:20260421T082611
CREATED:20260123T070847Z
LAST-MODIFIED:20260123T070847Z
UID:10005148-1787166000-1787168400@solomontempleministries.org
SUMMARY:Word Life Transformation
DESCRIPTION:Wednesdays 7-7:40 PM\n(Zoom Classes)\nw/breakout sessions\nfor all age groups\nCall-in: 1(669) 900-6833\nPin Code: 8190 8582 609
URL:https://solomontempleministries.org/event/word-life-transformation/2026-08-19/
LOCATION:Facebook Live or Call-in.
END:VEVENT
BEGIN:VEVENT
DTSTART;TZID=America/Los_Angeles:20260820T120000
DTEND;TZID=America/Los_Angeles:20260820T120000
DTSTAMP:20260421T082611
CREATED:20260123T070243Z
LAST-MODIFIED:20260123T070420Z
UID:10003888-1787227200-1787227200@solomontempleministries.org
SUMMARY:Noonday Prayer
DESCRIPTION:Noonday Prayer 12-12:15 PM\nTues\, Wed & Thurs (Only)
URL:https://solomontempleministries.org/event/noonday-prayer/2026-08-20/
LOCATION:Facebook Live or Call-in.
END:VEVENT
BEGIN:VEVENT
DTSTART;TZID=America/Los_Angeles:20260820T173000
DTEND;TZID=America/Los_Angeles:20260820T174500
DTSTAMP:20260421T082611
CREATED:20260123T065842Z
LAST-MODIFIED:20260123T065842Z
UID:10002181-1787247000-1787247900@solomontempleministries.org
SUMMARY:Daily Intercessory Prayer
DESCRIPTION:Call-in: 1 (888) 633-1082\n5:30-5:45 AM
URL:https://solomontempleministries.org/event/daily-intercessory-prayer/2026-08-20/
LOCATION:Solomon Temple Ministries International\, 655 California Ave. Pittsburg\, CA 94565\, Pittsburg\, CA\, 94565\, United States
GEO:38.015057;-121.8774965
X-APPLE-STRUCTURED-LOCATION;VALUE=URI;X-ADDRESS=Solomon Temple Ministries International 655 California Ave. Pittsburg CA 94565 Pittsburg CA 94565 United States;X-APPLE-RADIUS=500;X-TITLE=655 California Ave. Pittsburg\, CA 94565:geo:-121.8774965,38.015057
END:VEVENT
BEGIN:VEVENT
DTSTART;TZID=America/Los_Angeles:20260821T173000
DTEND;TZID=America/Los_Angeles:20260821T174500
DTSTAMP:20260421T082611
CREATED:20260123T065842Z
LAST-MODIFIED:20260123T065842Z
UID:10002182-1787333400-1787334300@solomontempleministries.org
SUMMARY:Daily Intercessory Prayer
DESCRIPTION:Call-in: 1 (888) 633-1082\n5:30-5:45 AM
URL:https://solomontempleministries.org/event/daily-intercessory-prayer/2026-08-21/
LOCATION:Solomon Temple Ministries International\, 655 California Ave. Pittsburg\, CA 94565\, Pittsburg\, CA\, 94565\, United States
GEO:38.015057;-121.8774965
X-APPLE-STRUCTURED-LOCATION;VALUE=URI;X-ADDRESS=Solomon Temple Ministries International 655 California Ave. Pittsburg CA 94565 Pittsburg CA 94565 United States;X-APPLE-RADIUS=500;X-TITLE=655 California Ave. Pittsburg\, CA 94565:geo:-121.8774965,38.015057
END:VEVENT
BEGIN:VEVENT
DTSTART;TZID=America/Los_Angeles:20260822T173000
DTEND;TZID=America/Los_Angeles:20260822T174500
DTSTAMP:20260421T082611
CREATED:20260123T065842Z
LAST-MODIFIED:20260123T065842Z
UID:10002183-1787419800-1787420700@solomontempleministries.org
SUMMARY:Daily Intercessory Prayer
DESCRIPTION:Call-in: 1 (888) 633-1082\n5:30-5:45 AM
URL:https://solomontempleministries.org/event/daily-intercessory-prayer/2026-08-22/
LOCATION:Solomon Temple Ministries International\, 655 California Ave. Pittsburg\, CA 94565\, Pittsburg\, CA\, 94565\, United States
GEO:38.015057;-121.8774965
X-APPLE-STRUCTURED-LOCATION;VALUE=URI;X-ADDRESS=Solomon Temple Ministries International 655 California Ave. Pittsburg CA 94565 Pittsburg CA 94565 United States;X-APPLE-RADIUS=500;X-TITLE=655 California Ave. Pittsburg\, CA 94565:geo:-121.8774965,38.015057
END:VEVENT
BEGIN:VEVENT
DTSTART;TZID=America/Los_Angeles:20260823T100000
DTEND;TZID=America/Los_Angeles:20260823T113000
DTSTAMP:20260421T082611
CREATED:20240201T183835Z
LAST-MODIFIED:20260123T064236Z
UID:10001528-1787479200-1787484600@solomontempleministries.org
SUMMARY:Sunday Service
DESCRIPTION:Praise and Worship / Inspirational Word
URL:https://solomontempleministries.org/event/sunday-service/2026-08-23/
LOCATION:Solomon Temple Ministries International\, 655 California Ave. Pittsburg\, CA 94565\, Pittsburg\, CA\, 94565\, United States
GEO:38.015057;-121.8774965
X-APPLE-STRUCTURED-LOCATION;VALUE=URI;X-ADDRESS=Solomon Temple Ministries International 655 California Ave. Pittsburg CA 94565 Pittsburg CA 94565 United States;X-APPLE-RADIUS=500;X-TITLE=655 California Ave. Pittsburg\, CA 94565:geo:-121.8774965,38.015057
END:VEVENT
BEGIN:VEVENT
DTSTART;TZID=America/Los_Angeles:20260823T173000
DTEND;TZID=America/Los_Angeles:20260823T174500
DTSTAMP:20260421T082611
CREATED:20260123T065842Z
LAST-MODIFIED:20260123T065842Z
UID:10002184-1787506200-1787507100@solomontempleministries.org
SUMMARY:Daily Intercessory Prayer
DESCRIPTION:Call-in: 1 (888) 633-1082\n5:30-5:45 AM
URL:https://solomontempleministries.org/event/daily-intercessory-prayer/2026-08-23/
LOCATION:Solomon Temple Ministries International\, 655 California Ave. Pittsburg\, CA 94565\, Pittsburg\, CA\, 94565\, United States
GEO:38.015057;-121.8774965
X-APPLE-STRUCTURED-LOCATION;VALUE=URI;X-ADDRESS=Solomon Temple Ministries International 655 California Ave. Pittsburg CA 94565 Pittsburg CA 94565 United States;X-APPLE-RADIUS=500;X-TITLE=655 California Ave. Pittsburg\, CA 94565:geo:-121.8774965,38.015057
END:VEVENT
BEGIN:VEVENT
DTSTART;TZID=America/Los_Angeles:20260824T173000
DTEND;TZID=America/Los_Angeles:20260824T174500
DTSTAMP:20260421T082611
CREATED:20260123T065842Z
LAST-MODIFIED:20260123T065842Z
UID:10002185-1787592600-1787593500@solomontempleministries.org
SUMMARY:Daily Intercessory Prayer
DESCRIPTION:Call-in: 1 (888) 633-1082\n5:30-5:45 AM
URL:https://solomontempleministries.org/event/daily-intercessory-prayer/2026-08-24/
LOCATION:Solomon Temple Ministries International\, 655 California Ave. Pittsburg\, CA 94565\, Pittsburg\, CA\, 94565\, United States
GEO:38.015057;-121.8774965
X-APPLE-STRUCTURED-LOCATION;VALUE=URI;X-ADDRESS=Solomon Temple Ministries International 655 California Ave. Pittsburg CA 94565 Pittsburg CA 94565 United States;X-APPLE-RADIUS=500;X-TITLE=655 California Ave. Pittsburg\, CA 94565:geo:-121.8774965,38.015057
END:VEVENT
BEGIN:VEVENT
DTSTART;TZID=America/Los_Angeles:20260825T120000
DTEND;TZID=America/Los_Angeles:20260825T120000
DTSTAMP:20260421T082611
CREATED:20260123T070243Z
LAST-MODIFIED:20260123T070420Z
UID:10003889-1787659200-1787659200@solomontempleministries.org
SUMMARY:Noonday Prayer
DESCRIPTION:Noonday Prayer 12-12:15 PM\nTues\, Wed & Thurs (Only)
URL:https://solomontempleministries.org/event/noonday-prayer/2026-08-25/
LOCATION:Facebook Live or Call-in.
END:VEVENT
BEGIN:VEVENT
DTSTART;TZID=America/Los_Angeles:20260825T173000
DTEND;TZID=America/Los_Angeles:20260825T174500
DTSTAMP:20260421T082611
CREATED:20260123T065842Z
LAST-MODIFIED:20260123T065842Z
UID:10002186-1787679000-1787679900@solomontempleministries.org
SUMMARY:Daily Intercessory Prayer
DESCRIPTION:Call-in: 1 (888) 633-1082\n5:30-5:45 AM
URL:https://solomontempleministries.org/event/daily-intercessory-prayer/2026-08-25/
LOCATION:Solomon Temple Ministries International\, 655 California Ave. Pittsburg\, CA 94565\, Pittsburg\, CA\, 94565\, United States
GEO:38.015057;-121.8774965
X-APPLE-STRUCTURED-LOCATION;VALUE=URI;X-ADDRESS=Solomon Temple Ministries International 655 California Ave. Pittsburg CA 94565 Pittsburg CA 94565 United States;X-APPLE-RADIUS=500;X-TITLE=655 California Ave. Pittsburg\, CA 94565:geo:-121.8774965,38.015057
END:VEVENT
BEGIN:VEVENT
DTSTART;TZID=America/Los_Angeles:20260825T180000
DTEND;TZID=America/Los_Angeles:20260825T181500
DTSTAMP:20260421T082611
CREATED:20260123T070739Z
LAST-MODIFIED:20260123T070937Z
UID:10005413-1787680800-1787681700@solomontempleministries.org
SUMMARY:Millennial Prayer Call
DESCRIPTION:Tuesdays 6:00-6:15 PM\nCall-in: 1(888) 633-1082
URL:https://solomontempleministries.org/event/millennial-prayer-call/2026-08-25/
LOCATION:Facebook Live or Call-in.
END:VEVENT
BEGIN:VEVENT
DTSTART;TZID=America/Los_Angeles:20260825T190000
DTEND;TZID=America/Los_Angeles:20260825T193000
DTSTAMP:20260421T082612
CREATED:20260123T070615Z
LAST-MODIFIED:20260123T070615Z
UID:10004623-1787684400-1787686200@solomontempleministries.org
SUMMARY:Word Life Weekly Bible Study
DESCRIPTION:Tuesdays 7:00-7:30 PM\nJoin via Facebook Live\nPastor Victor S. Brice\nCall-in: 1(888) 633-1082
URL:https://solomontempleministries.org/event/word-life-weekly-bible-study/2026-08-25/
LOCATION:Facebook Live or Call-in.
END:VEVENT
BEGIN:VEVENT
DTSTART;TZID=America/Los_Angeles:20260826T120000
DTEND;TZID=America/Los_Angeles:20260826T120000
DTSTAMP:20260421T082612
CREATED:20260123T070243Z
LAST-MODIFIED:20260123T070420Z
UID:10003890-1787745600-1787745600@solomontempleministries.org
SUMMARY:Noonday Prayer
DESCRIPTION:Noonday Prayer 12-12:15 PM\nTues\, Wed & Thurs (Only)
URL:https://solomontempleministries.org/event/noonday-prayer/2026-08-26/
LOCATION:Facebook Live or Call-in.
END:VEVENT
BEGIN:VEVENT
DTSTART;TZID=America/Los_Angeles:20260826T173000
DTEND;TZID=America/Los_Angeles:20260826T174500
DTSTAMP:20260421T082612
CREATED:20260123T065842Z
LAST-MODIFIED:20260123T065842Z
UID:10002187-1787765400-1787766300@solomontempleministries.org
SUMMARY:Daily Intercessory Prayer
DESCRIPTION:Call-in: 1 (888) 633-1082\n5:30-5:45 AM
URL:https://solomontempleministries.org/event/daily-intercessory-prayer/2026-08-26/
LOCATION:Solomon Temple Ministries International\, 655 California Ave. Pittsburg\, CA 94565\, Pittsburg\, CA\, 94565\, United States
GEO:38.015057;-121.8774965
X-APPLE-STRUCTURED-LOCATION;VALUE=URI;X-ADDRESS=Solomon Temple Ministries International 655 California Ave. Pittsburg CA 94565 Pittsburg CA 94565 United States;X-APPLE-RADIUS=500;X-TITLE=655 California Ave. Pittsburg\, CA 94565:geo:-121.8774965,38.015057
END:VEVENT
BEGIN:VEVENT
DTSTART;TZID=America/Los_Angeles:20260826T190000
DTEND;TZID=America/Los_Angeles:20260826T194000
DTSTAMP:20260421T082612
CREATED:20260123T070847Z
LAST-MODIFIED:20260123T070847Z
UID:10005149-1787770800-1787773200@solomontempleministries.org
SUMMARY:Word Life Transformation
DESCRIPTION:Wednesdays 7-7:40 PM\n(Zoom Classes)\nw/breakout sessions\nfor all age groups\nCall-in: 1(669) 900-6833\nPin Code: 8190 8582 609
URL:https://solomontempleministries.org/event/word-life-transformation/2026-08-26/
LOCATION:Facebook Live or Call-in.
END:VEVENT
BEGIN:VEVENT
DTSTART;TZID=America/Los_Angeles:20260827T120000
DTEND;TZID=America/Los_Angeles:20260827T120000
DTSTAMP:20260421T082612
CREATED:20260123T070243Z
LAST-MODIFIED:20260123T070420Z
UID:10003891-1787832000-1787832000@solomontempleministries.org
SUMMARY:Noonday Prayer
DESCRIPTION:Noonday Prayer 12-12:15 PM\nTues\, Wed & Thurs (Only)
URL:https://solomontempleministries.org/event/noonday-prayer/2026-08-27/
LOCATION:Facebook Live or Call-in.
END:VEVENT
BEGIN:VEVENT
DTSTART;TZID=America/Los_Angeles:20260827T173000
DTEND;TZID=America/Los_Angeles:20260827T174500
DTSTAMP:20260421T082612
CREATED:20260123T065842Z
LAST-MODIFIED:20260123T065842Z
UID:10002188-1787851800-1787852700@solomontempleministries.org
SUMMARY:Daily Intercessory Prayer
DESCRIPTION:Call-in: 1 (888) 633-1082\n5:30-5:45 AM
URL:https://solomontempleministries.org/event/daily-intercessory-prayer/2026-08-27/
LOCATION:Solomon Temple Ministries International\, 655 California Ave. Pittsburg\, CA 94565\, Pittsburg\, CA\, 94565\, United States
GEO:38.015057;-121.8774965
X-APPLE-STRUCTURED-LOCATION;VALUE=URI;X-ADDRESS=Solomon Temple Ministries International 655 California Ave. Pittsburg CA 94565 Pittsburg CA 94565 United States;X-APPLE-RADIUS=500;X-TITLE=655 California Ave. Pittsburg\, CA 94565:geo:-121.8774965,38.015057
END:VEVENT
BEGIN:VEVENT
DTSTART;TZID=America/Los_Angeles:20260828T173000
DTEND;TZID=America/Los_Angeles:20260828T174500
DTSTAMP:20260421T082612
CREATED:20260123T065842Z
LAST-MODIFIED:20260123T065842Z
UID:10002189-1787938200-1787939100@solomontempleministries.org
SUMMARY:Daily Intercessory Prayer
DESCRIPTION:Call-in: 1 (888) 633-1082\n5:30-5:45 AM
URL:https://solomontempleministries.org/event/daily-intercessory-prayer/2026-08-28/
LOCATION:Solomon Temple Ministries International\, 655 California Ave. Pittsburg\, CA 94565\, Pittsburg\, CA\, 94565\, United States
GEO:38.015057;-121.8774965
X-APPLE-STRUCTURED-LOCATION;VALUE=URI;X-ADDRESS=Solomon Temple Ministries International 655 California Ave. Pittsburg CA 94565 Pittsburg CA 94565 United States;X-APPLE-RADIUS=500;X-TITLE=655 California Ave. Pittsburg\, CA 94565:geo:-121.8774965,38.015057
END:VEVENT
BEGIN:VEVENT
DTSTART;TZID=America/Los_Angeles:20260829T173000
DTEND;TZID=America/Los_Angeles:20260829T174500
DTSTAMP:20260421T082612
CREATED:20260123T065842Z
LAST-MODIFIED:20260123T065842Z
UID:10002190-1788024600-1788025500@solomontempleministries.org
SUMMARY:Daily Intercessory Prayer
DESCRIPTION:Call-in: 1 (888) 633-1082\n5:30-5:45 AM
URL:https://solomontempleministries.org/event/daily-intercessory-prayer/2026-08-29/
LOCATION:Solomon Temple Ministries International\, 655 California Ave. Pittsburg\, CA 94565\, Pittsburg\, CA\, 94565\, United States
GEO:38.015057;-121.8774965
X-APPLE-STRUCTURED-LOCATION;VALUE=URI;X-ADDRESS=Solomon Temple Ministries International 655 California Ave. Pittsburg CA 94565 Pittsburg CA 94565 United States;X-APPLE-RADIUS=500;X-TITLE=655 California Ave. Pittsburg\, CA 94565:geo:-121.8774965,38.015057
END:VEVENT
BEGIN:VEVENT
DTSTART;TZID=America/Los_Angeles:20260830T100000
DTEND;TZID=America/Los_Angeles:20260830T113000
DTSTAMP:20260421T082612
CREATED:20240201T183835Z
LAST-MODIFIED:20260123T064236Z
UID:10001529-1788084000-1788089400@solomontempleministries.org
SUMMARY:Sunday Service
DESCRIPTION:Praise and Worship / Inspirational Word
URL:https://solomontempleministries.org/event/sunday-service/2026-08-30/
LOCATION:Solomon Temple Ministries International\, 655 California Ave. Pittsburg\, CA 94565\, Pittsburg\, CA\, 94565\, United States
GEO:38.015057;-121.8774965
X-APPLE-STRUCTURED-LOCATION;VALUE=URI;X-ADDRESS=Solomon Temple Ministries International 655 California Ave. Pittsburg CA 94565 Pittsburg CA 94565 United States;X-APPLE-RADIUS=500;X-TITLE=655 California Ave. Pittsburg\, CA 94565:geo:-121.8774965,38.015057
END:VEVENT
BEGIN:VEVENT
DTSTART;TZID=America/Los_Angeles:20260830T173000
DTEND;TZID=America/Los_Angeles:20260830T174500
DTSTAMP:20260421T082612
CREATED:20260123T065842Z
LAST-MODIFIED:20260123T065842Z
UID:10002191-1788111000-1788111900@solomontempleministries.org
SUMMARY:Daily Intercessory Prayer
DESCRIPTION:Call-in: 1 (888) 633-1082\n5:30-5:45 AM
URL:https://solomontempleministries.org/event/daily-intercessory-prayer/2026-08-30/
LOCATION:Solomon Temple Ministries International\, 655 California Ave. Pittsburg\, CA 94565\, Pittsburg\, CA\, 94565\, United States
GEO:38.015057;-121.8774965
X-APPLE-STRUCTURED-LOCATION;VALUE=URI;X-ADDRESS=Solomon Temple Ministries International 655 California Ave. Pittsburg CA 94565 Pittsburg CA 94565 United States;X-APPLE-RADIUS=500;X-TITLE=655 California Ave. Pittsburg\, CA 94565:geo:-121.8774965,38.015057
END:VEVENT
BEGIN:VEVENT
DTSTART;TZID=America/Los_Angeles:20260831T173000
DTEND;TZID=America/Los_Angeles:20260831T174500
DTSTAMP:20260421T082612
CREATED:20260123T065842Z
LAST-MODIFIED:20260123T065842Z
UID:10002192-1788197400-1788198300@solomontempleministries.org
SUMMARY:Daily Intercessory Prayer
DESCRIPTION:Call-in: 1 (888) 633-1082\n5:30-5:45 AM
URL:https://solomontempleministries.org/event/daily-intercessory-prayer/2026-08-31/
LOCATION:Solomon Temple Ministries International\, 655 California Ave. Pittsburg\, CA 94565\, Pittsburg\, CA\, 94565\, United States
GEO:38.015057;-121.8774965
X-APPLE-STRUCTURED-LOCATION;VALUE=URI;X-ADDRESS=Solomon Temple Ministries International 655 California Ave. Pittsburg CA 94565 Pittsburg CA 94565 United States;X-APPLE-RADIUS=500;X-TITLE=655 California Ave. Pittsburg\, CA 94565:geo:-121.8774965,38.015057
END:VEVENT
END:VCALENDAR