BEGIN:VCALENDAR
VERSION:2.0
PRODID:-//Solomon Temple Ministries International - ECPv6.15.18//NONSGML v1.0//EN
CALSCALE:GREGORIAN
METHOD:PUBLISH
X-WR-CALNAME:Solomon Temple Ministries International
X-ORIGINAL-URL:https://solomontempleministries.org
X-WR-CALDESC:Events for Solomon Temple Ministries International
REFRESH-INTERVAL;VALUE=DURATION:PT1H
X-Robots-Tag:noindex
X-PUBLISHED-TTL:PT1H
BEGIN:VTIMEZONE
TZID:America/Los_Angeles
BEGIN:DAYLIGHT
TZOFFSETFROM:-0800
TZOFFSETTO:-0700
TZNAME:PDT
DTSTART:20230312T100000
END:DAYLIGHT
BEGIN:STANDARD
TZOFFSETFROM:-0700
TZOFFSETTO:-0800
TZNAME:PST
DTSTART:20231105T090000
END:STANDARD
BEGIN:DAYLIGHT
TZOFFSETFROM:-0800
TZOFFSETTO:-0700
TZNAME:PDT
DTSTART:20240310T100000
END:DAYLIGHT
BEGIN:STANDARD
TZOFFSETFROM:-0700
TZOFFSETTO:-0800
TZNAME:PST
DTSTART:20241103T090000
END:STANDARD
BEGIN:DAYLIGHT
TZOFFSETFROM:-0800
TZOFFSETTO:-0700
TZNAME:PDT
DTSTART:20250309T100000
END:DAYLIGHT
BEGIN:STANDARD
TZOFFSETFROM:-0700
TZOFFSETTO:-0800
TZNAME:PST
DTSTART:20251102T090000
END:STANDARD
END:VTIMEZONE
BEGIN:VEVENT
DTSTART;TZID=America/Los_Angeles:20240901T100000
DTEND;TZID=America/Los_Angeles:20240901T113000
DTSTAMP:20260419T090525
CREATED:20240201T183835Z
LAST-MODIFIED:20260123T064236Z
UID:10001425-1725184800-1725190200@solomontempleministries.org
SUMMARY:Sunday Service
DESCRIPTION:Praise and Worship / Inspirational Word
URL:https://solomontempleministries.org/event/sunday-service/2024-09-01/
LOCATION:Solomon Temple Ministries International\, 655 California Ave. Pittsburg\, CA 94565\, Pittsburg\, CA\, 94565\, United States
GEO:38.015057;-121.8774965
X-APPLE-STRUCTURED-LOCATION;VALUE=URI;X-ADDRESS=Solomon Temple Ministries International 655 California Ave. Pittsburg CA 94565 Pittsburg CA 94565 United States;X-APPLE-RADIUS=500;X-TITLE=655 California Ave. Pittsburg\, CA 94565:geo:-121.8774965,38.015057
END:VEVENT
BEGIN:VEVENT
DTSTART;TZID=America/Los_Angeles:20240825T100000
DTEND;TZID=America/Los_Angeles:20240825T113000
DTSTAMP:20260419T090525
CREATED:20240201T183835Z
LAST-MODIFIED:20260123T064236Z
UID:10001424-1724580000-1724585400@solomontempleministries.org
SUMMARY:Sunday Service
DESCRIPTION:Praise and Worship / Inspirational Word
URL:https://solomontempleministries.org/event/sunday-service/2024-08-25/
LOCATION:Solomon Temple Ministries International\, 655 California Ave. Pittsburg\, CA 94565\, Pittsburg\, CA\, 94565\, United States
GEO:38.015057;-121.8774965
X-APPLE-STRUCTURED-LOCATION;VALUE=URI;X-ADDRESS=Solomon Temple Ministries International 655 California Ave. Pittsburg CA 94565 Pittsburg CA 94565 United States;X-APPLE-RADIUS=500;X-TITLE=655 California Ave. Pittsburg\, CA 94565:geo:-121.8774965,38.015057
END:VEVENT
BEGIN:VEVENT
DTSTART;TZID=America/Los_Angeles:20240818T100000
DTEND;TZID=America/Los_Angeles:20240818T113000
DTSTAMP:20260419T090525
CREATED:20240201T183835Z
LAST-MODIFIED:20260123T064236Z
UID:10001423-1723975200-1723980600@solomontempleministries.org
SUMMARY:Sunday Service
DESCRIPTION:Praise and Worship / Inspirational Word
URL:https://solomontempleministries.org/event/sunday-service/2024-08-18/
LOCATION:Solomon Temple Ministries International\, 655 California Ave. Pittsburg\, CA 94565\, Pittsburg\, CA\, 94565\, United States
GEO:38.015057;-121.8774965
X-APPLE-STRUCTURED-LOCATION;VALUE=URI;X-ADDRESS=Solomon Temple Ministries International 655 California Ave. Pittsburg CA 94565 Pittsburg CA 94565 United States;X-APPLE-RADIUS=500;X-TITLE=655 California Ave. Pittsburg\, CA 94565:geo:-121.8774965,38.015057
END:VEVENT
BEGIN:VEVENT
DTSTART;TZID=America/Los_Angeles:20240811T100000
DTEND;TZID=America/Los_Angeles:20240811T113000
DTSTAMP:20260419T090525
CREATED:20240201T183835Z
LAST-MODIFIED:20260123T064236Z
UID:10001422-1723370400-1723375800@solomontempleministries.org
SUMMARY:Sunday Service
DESCRIPTION:Praise and Worship / Inspirational Word
URL:https://solomontempleministries.org/event/sunday-service/2024-08-11/
LOCATION:Solomon Temple Ministries International\, 655 California Ave. Pittsburg\, CA 94565\, Pittsburg\, CA\, 94565\, United States
GEO:38.015057;-121.8774965
X-APPLE-STRUCTURED-LOCATION;VALUE=URI;X-ADDRESS=Solomon Temple Ministries International 655 California Ave. Pittsburg CA 94565 Pittsburg CA 94565 United States;X-APPLE-RADIUS=500;X-TITLE=655 California Ave. Pittsburg\, CA 94565:geo:-121.8774965,38.015057
END:VEVENT
BEGIN:VEVENT
DTSTART;TZID=America/Los_Angeles:20240804T100000
DTEND;TZID=America/Los_Angeles:20240804T113000
DTSTAMP:20260419T090525
CREATED:20240201T183835Z
LAST-MODIFIED:20260123T064236Z
UID:10001421-1722765600-1722771000@solomontempleministries.org
SUMMARY:Sunday Service
DESCRIPTION:Praise and Worship / Inspirational Word
URL:https://solomontempleministries.org/event/sunday-service/2024-08-04/
LOCATION:Solomon Temple Ministries International\, 655 California Ave. Pittsburg\, CA 94565\, Pittsburg\, CA\, 94565\, United States
GEO:38.015057;-121.8774965
X-APPLE-STRUCTURED-LOCATION;VALUE=URI;X-ADDRESS=Solomon Temple Ministries International 655 California Ave. Pittsburg CA 94565 Pittsburg CA 94565 United States;X-APPLE-RADIUS=500;X-TITLE=655 California Ave. Pittsburg\, CA 94565:geo:-121.8774965,38.015057
END:VEVENT
BEGIN:VEVENT
DTSTART;TZID=America/Los_Angeles:20240728T100000
DTEND;TZID=America/Los_Angeles:20240728T113000
DTSTAMP:20260419T090525
CREATED:20240201T183835Z
LAST-MODIFIED:20260123T064236Z
UID:10001420-1722160800-1722166200@solomontempleministries.org
SUMMARY:Sunday Service
DESCRIPTION:Praise and Worship / Inspirational Word
URL:https://solomontempleministries.org/event/sunday-service/2024-07-28/
LOCATION:Solomon Temple Ministries International\, 655 California Ave. Pittsburg\, CA 94565\, Pittsburg\, CA\, 94565\, United States
GEO:38.015057;-121.8774965
X-APPLE-STRUCTURED-LOCATION;VALUE=URI;X-ADDRESS=Solomon Temple Ministries International 655 California Ave. Pittsburg CA 94565 Pittsburg CA 94565 United States;X-APPLE-RADIUS=500;X-TITLE=655 California Ave. Pittsburg\, CA 94565:geo:-121.8774965,38.015057
END:VEVENT
BEGIN:VEVENT
DTSTART;TZID=America/Los_Angeles:20240721T100000
DTEND;TZID=America/Los_Angeles:20240721T113000
DTSTAMP:20260419T090525
CREATED:20240201T183835Z
LAST-MODIFIED:20260123T064236Z
UID:10001419-1721556000-1721561400@solomontempleministries.org
SUMMARY:Sunday Service
DESCRIPTION:Praise and Worship / Inspirational Word
URL:https://solomontempleministries.org/event/sunday-service/2024-07-21/
LOCATION:Solomon Temple Ministries International\, 655 California Ave. Pittsburg\, CA 94565\, Pittsburg\, CA\, 94565\, United States
GEO:38.015057;-121.8774965
X-APPLE-STRUCTURED-LOCATION;VALUE=URI;X-ADDRESS=Solomon Temple Ministries International 655 California Ave. Pittsburg CA 94565 Pittsburg CA 94565 United States;X-APPLE-RADIUS=500;X-TITLE=655 California Ave. Pittsburg\, CA 94565:geo:-121.8774965,38.015057
END:VEVENT
BEGIN:VEVENT
DTSTART;TZID=America/Los_Angeles:20240714T100000
DTEND;TZID=America/Los_Angeles:20240714T113000
DTSTAMP:20260419T090525
CREATED:20240201T183835Z
LAST-MODIFIED:20260123T064236Z
UID:10001418-1720951200-1720956600@solomontempleministries.org
SUMMARY:Sunday Service
DESCRIPTION:Praise and Worship / Inspirational Word
URL:https://solomontempleministries.org/event/sunday-service/2024-07-14/
LOCATION:Solomon Temple Ministries International\, 655 California Ave. Pittsburg\, CA 94565\, Pittsburg\, CA\, 94565\, United States
GEO:38.015057;-121.8774965
X-APPLE-STRUCTURED-LOCATION;VALUE=URI;X-ADDRESS=Solomon Temple Ministries International 655 California Ave. Pittsburg CA 94565 Pittsburg CA 94565 United States;X-APPLE-RADIUS=500;X-TITLE=655 California Ave. Pittsburg\, CA 94565:geo:-121.8774965,38.015057
END:VEVENT
BEGIN:VEVENT
DTSTART;TZID=America/Los_Angeles:20240707T100000
DTEND;TZID=America/Los_Angeles:20240707T113000
DTSTAMP:20260419T090525
CREATED:20240201T183835Z
LAST-MODIFIED:20260123T064236Z
UID:10001417-1720346400-1720351800@solomontempleministries.org
SUMMARY:Sunday Service
DESCRIPTION:Praise and Worship / Inspirational Word
URL:https://solomontempleministries.org/event/sunday-service/2024-07-07/
LOCATION:Solomon Temple Ministries International\, 655 California Ave. Pittsburg\, CA 94565\, Pittsburg\, CA\, 94565\, United States
GEO:38.015057;-121.8774965
X-APPLE-STRUCTURED-LOCATION;VALUE=URI;X-ADDRESS=Solomon Temple Ministries International 655 California Ave. Pittsburg CA 94565 Pittsburg CA 94565 United States;X-APPLE-RADIUS=500;X-TITLE=655 California Ave. Pittsburg\, CA 94565:geo:-121.8774965,38.015057
END:VEVENT
BEGIN:VEVENT
DTSTART;TZID=America/Los_Angeles:20240630T100000
DTEND;TZID=America/Los_Angeles:20240630T113000
DTSTAMP:20260419T090525
CREATED:20240201T183835Z
LAST-MODIFIED:20260123T064236Z
UID:10001416-1719741600-1719747000@solomontempleministries.org
SUMMARY:Sunday Service
DESCRIPTION:Praise and Worship / Inspirational Word
URL:https://solomontempleministries.org/event/sunday-service/2024-06-30/
LOCATION:Solomon Temple Ministries International\, 655 California Ave. Pittsburg\, CA 94565\, Pittsburg\, CA\, 94565\, United States
GEO:38.015057;-121.8774965
X-APPLE-STRUCTURED-LOCATION;VALUE=URI;X-ADDRESS=Solomon Temple Ministries International 655 California Ave. Pittsburg CA 94565 Pittsburg CA 94565 United States;X-APPLE-RADIUS=500;X-TITLE=655 California Ave. Pittsburg\, CA 94565:geo:-121.8774965,38.015057
END:VEVENT
BEGIN:VEVENT
DTSTART;TZID=America/Los_Angeles:20240623T100000
DTEND;TZID=America/Los_Angeles:20240623T113000
DTSTAMP:20260419T090525
CREATED:20240201T183835Z
LAST-MODIFIED:20260123T064236Z
UID:10001415-1719136800-1719142200@solomontempleministries.org
SUMMARY:Sunday Service
DESCRIPTION:Praise and Worship / Inspirational Word
URL:https://solomontempleministries.org/event/sunday-service/2024-06-23/
LOCATION:Solomon Temple Ministries International\, 655 California Ave. Pittsburg\, CA 94565\, Pittsburg\, CA\, 94565\, United States
GEO:38.015057;-121.8774965
X-APPLE-STRUCTURED-LOCATION;VALUE=URI;X-ADDRESS=Solomon Temple Ministries International 655 California Ave. Pittsburg CA 94565 Pittsburg CA 94565 United States;X-APPLE-RADIUS=500;X-TITLE=655 California Ave. Pittsburg\, CA 94565:geo:-121.8774965,38.015057
END:VEVENT
BEGIN:VEVENT
DTSTART;TZID=America/Los_Angeles:20240616T100000
DTEND;TZID=America/Los_Angeles:20240616T113000
DTSTAMP:20260419T090525
CREATED:20240201T183835Z
LAST-MODIFIED:20260123T064236Z
UID:10001414-1718532000-1718537400@solomontempleministries.org
SUMMARY:Sunday Service
DESCRIPTION:Praise and Worship / Inspirational Word
URL:https://solomontempleministries.org/event/sunday-service/2024-06-16/
LOCATION:Solomon Temple Ministries International\, 655 California Ave. Pittsburg\, CA 94565\, Pittsburg\, CA\, 94565\, United States
GEO:38.015057;-121.8774965
X-APPLE-STRUCTURED-LOCATION;VALUE=URI;X-ADDRESS=Solomon Temple Ministries International 655 California Ave. Pittsburg CA 94565 Pittsburg CA 94565 United States;X-APPLE-RADIUS=500;X-TITLE=655 California Ave. Pittsburg\, CA 94565:geo:-121.8774965,38.015057
END:VEVENT
BEGIN:VEVENT
DTSTART;TZID=America/Los_Angeles:20240609T100000
DTEND;TZID=America/Los_Angeles:20240609T113000
DTSTAMP:20260419T090525
CREATED:20240201T183835Z
LAST-MODIFIED:20260123T064236Z
UID:10001413-1717927200-1717932600@solomontempleministries.org
SUMMARY:Sunday Service
DESCRIPTION:Praise and Worship / Inspirational Word
URL:https://solomontempleministries.org/event/sunday-service/2024-06-09/
LOCATION:Solomon Temple Ministries International\, 655 California Ave. Pittsburg\, CA 94565\, Pittsburg\, CA\, 94565\, United States
GEO:38.015057;-121.8774965
X-APPLE-STRUCTURED-LOCATION;VALUE=URI;X-ADDRESS=Solomon Temple Ministries International 655 California Ave. Pittsburg CA 94565 Pittsburg CA 94565 United States;X-APPLE-RADIUS=500;X-TITLE=655 California Ave. Pittsburg\, CA 94565:geo:-121.8774965,38.015057
END:VEVENT
BEGIN:VEVENT
DTSTART;TZID=America/Los_Angeles:20240602T100000
DTEND;TZID=America/Los_Angeles:20240602T113000
DTSTAMP:20260419T090525
CREATED:20240201T183835Z
LAST-MODIFIED:20260123T064236Z
UID:10001412-1717322400-1717327800@solomontempleministries.org
SUMMARY:Sunday Service
DESCRIPTION:Praise and Worship / Inspirational Word
URL:https://solomontempleministries.org/event/sunday-service/2024-06-02/
LOCATION:Solomon Temple Ministries International\, 655 California Ave. Pittsburg\, CA 94565\, Pittsburg\, CA\, 94565\, United States
GEO:38.015057;-121.8774965
X-APPLE-STRUCTURED-LOCATION;VALUE=URI;X-ADDRESS=Solomon Temple Ministries International 655 California Ave. Pittsburg CA 94565 Pittsburg CA 94565 United States;X-APPLE-RADIUS=500;X-TITLE=655 California Ave. Pittsburg\, CA 94565:geo:-121.8774965,38.015057
END:VEVENT
BEGIN:VEVENT
DTSTART;TZID=America/Los_Angeles:20240526T100000
DTEND;TZID=America/Los_Angeles:20240526T113000
DTSTAMP:20260419T090525
CREATED:20240201T183835Z
LAST-MODIFIED:20260123T064236Z
UID:10001411-1716717600-1716723000@solomontempleministries.org
SUMMARY:Sunday Service
DESCRIPTION:Praise and Worship / Inspirational Word
URL:https://solomontempleministries.org/event/sunday-service/2024-05-26/
LOCATION:Solomon Temple Ministries International\, 655 California Ave. Pittsburg\, CA 94565\, Pittsburg\, CA\, 94565\, United States
GEO:38.015057;-121.8774965
X-APPLE-STRUCTURED-LOCATION;VALUE=URI;X-ADDRESS=Solomon Temple Ministries International 655 California Ave. Pittsburg CA 94565 Pittsburg CA 94565 United States;X-APPLE-RADIUS=500;X-TITLE=655 California Ave. Pittsburg\, CA 94565:geo:-121.8774965,38.015057
END:VEVENT
BEGIN:VEVENT
DTSTART;TZID=America/Los_Angeles:20240519T100000
DTEND;TZID=America/Los_Angeles:20240519T113000
DTSTAMP:20260419T090525
CREATED:20240201T183835Z
LAST-MODIFIED:20260123T064236Z
UID:10001410-1716112800-1716118200@solomontempleministries.org
SUMMARY:Sunday Service
DESCRIPTION:Praise and Worship / Inspirational Word
URL:https://solomontempleministries.org/event/sunday-service/2024-05-19/
LOCATION:Solomon Temple Ministries International\, 655 California Ave. Pittsburg\, CA 94565\, Pittsburg\, CA\, 94565\, United States
GEO:38.015057;-121.8774965
X-APPLE-STRUCTURED-LOCATION;VALUE=URI;X-ADDRESS=Solomon Temple Ministries International 655 California Ave. Pittsburg CA 94565 Pittsburg CA 94565 United States;X-APPLE-RADIUS=500;X-TITLE=655 California Ave. Pittsburg\, CA 94565:geo:-121.8774965,38.015057
END:VEVENT
BEGIN:VEVENT
DTSTART;TZID=America/Los_Angeles:20240512T100000
DTEND;TZID=America/Los_Angeles:20240512T113000
DTSTAMP:20260419T090525
CREATED:20240201T183835Z
LAST-MODIFIED:20260123T064236Z
UID:10001409-1715508000-1715513400@solomontempleministries.org
SUMMARY:Sunday Service
DESCRIPTION:Praise and Worship / Inspirational Word
URL:https://solomontempleministries.org/event/sunday-service/2024-05-12/
LOCATION:Solomon Temple Ministries International\, 655 California Ave. Pittsburg\, CA 94565\, Pittsburg\, CA\, 94565\, United States
GEO:38.015057;-121.8774965
X-APPLE-STRUCTURED-LOCATION;VALUE=URI;X-ADDRESS=Solomon Temple Ministries International 655 California Ave. Pittsburg CA 94565 Pittsburg CA 94565 United States;X-APPLE-RADIUS=500;X-TITLE=655 California Ave. Pittsburg\, CA 94565:geo:-121.8774965,38.015057
END:VEVENT
BEGIN:VEVENT
DTSTART;TZID=America/Los_Angeles:20240505T100000
DTEND;TZID=America/Los_Angeles:20240505T113000
DTSTAMP:20260419T090525
CREATED:20240201T183835Z
LAST-MODIFIED:20260123T064236Z
UID:10001408-1714903200-1714908600@solomontempleministries.org
SUMMARY:Sunday Service
DESCRIPTION:Praise and Worship / Inspirational Word
URL:https://solomontempleministries.org/event/sunday-service/2024-05-05/
LOCATION:Solomon Temple Ministries International\, 655 California Ave. Pittsburg\, CA 94565\, Pittsburg\, CA\, 94565\, United States
GEO:38.015057;-121.8774965
X-APPLE-STRUCTURED-LOCATION;VALUE=URI;X-ADDRESS=Solomon Temple Ministries International 655 California Ave. Pittsburg CA 94565 Pittsburg CA 94565 United States;X-APPLE-RADIUS=500;X-TITLE=655 California Ave. Pittsburg\, CA 94565:geo:-121.8774965,38.015057
END:VEVENT
BEGIN:VEVENT
DTSTART;TZID=America/Los_Angeles:20240428T100000
DTEND;TZID=America/Los_Angeles:20240428T113000
DTSTAMP:20260419T090525
CREATED:20240201T183835Z
LAST-MODIFIED:20260123T064236Z
UID:10001407-1714298400-1714303800@solomontempleministries.org
SUMMARY:Sunday Service
DESCRIPTION:Praise and Worship / Inspirational Word
URL:https://solomontempleministries.org/event/sunday-service/2024-04-28/
LOCATION:Solomon Temple Ministries International\, 655 California Ave. Pittsburg\, CA 94565\, Pittsburg\, CA\, 94565\, United States
GEO:38.015057;-121.8774965
X-APPLE-STRUCTURED-LOCATION;VALUE=URI;X-ADDRESS=Solomon Temple Ministries International 655 California Ave. Pittsburg CA 94565 Pittsburg CA 94565 United States;X-APPLE-RADIUS=500;X-TITLE=655 California Ave. Pittsburg\, CA 94565:geo:-121.8774965,38.015057
END:VEVENT
BEGIN:VEVENT
DTSTART;TZID=America/Los_Angeles:20240421T100000
DTEND;TZID=America/Los_Angeles:20240421T113000
DTSTAMP:20260419T090525
CREATED:20240201T183835Z
LAST-MODIFIED:20260123T064236Z
UID:10001406-1713693600-1713699000@solomontempleministries.org
SUMMARY:Sunday Service
DESCRIPTION:Praise and Worship / Inspirational Word
URL:https://solomontempleministries.org/event/sunday-service/2024-04-21/
LOCATION:Solomon Temple Ministries International\, 655 California Ave. Pittsburg\, CA 94565\, Pittsburg\, CA\, 94565\, United States
GEO:38.015057;-121.8774965
X-APPLE-STRUCTURED-LOCATION;VALUE=URI;X-ADDRESS=Solomon Temple Ministries International 655 California Ave. Pittsburg CA 94565 Pittsburg CA 94565 United States;X-APPLE-RADIUS=500;X-TITLE=655 California Ave. Pittsburg\, CA 94565:geo:-121.8774965,38.015057
END:VEVENT
BEGIN:VEVENT
DTSTART;TZID=America/Los_Angeles:20240414T100000
DTEND;TZID=America/Los_Angeles:20240414T113000
DTSTAMP:20260419T090525
CREATED:20240201T183835Z
LAST-MODIFIED:20260123T064236Z
UID:10001405-1713088800-1713094200@solomontempleministries.org
SUMMARY:Sunday Service
DESCRIPTION:Praise and Worship / Inspirational Word
URL:https://solomontempleministries.org/event/sunday-service/2024-04-14/
LOCATION:Solomon Temple Ministries International\, 655 California Ave. Pittsburg\, CA 94565\, Pittsburg\, CA\, 94565\, United States
GEO:38.015057;-121.8774965
X-APPLE-STRUCTURED-LOCATION;VALUE=URI;X-ADDRESS=Solomon Temple Ministries International 655 California Ave. Pittsburg CA 94565 Pittsburg CA 94565 United States;X-APPLE-RADIUS=500;X-TITLE=655 California Ave. Pittsburg\, CA 94565:geo:-121.8774965,38.015057
END:VEVENT
BEGIN:VEVENT
DTSTART;TZID=America/Los_Angeles:20240407T100000
DTEND;TZID=America/Los_Angeles:20240407T113000
DTSTAMP:20260419T090525
CREATED:20240201T183835Z
LAST-MODIFIED:20260123T064236Z
UID:10001404-1712484000-1712489400@solomontempleministries.org
SUMMARY:Sunday Service
DESCRIPTION:Praise and Worship / Inspirational Word
URL:https://solomontempleministries.org/event/sunday-service/2024-04-07/
LOCATION:Solomon Temple Ministries International\, 655 California Ave. Pittsburg\, CA 94565\, Pittsburg\, CA\, 94565\, United States
GEO:38.015057;-121.8774965
X-APPLE-STRUCTURED-LOCATION;VALUE=URI;X-ADDRESS=Solomon Temple Ministries International 655 California Ave. Pittsburg CA 94565 Pittsburg CA 94565 United States;X-APPLE-RADIUS=500;X-TITLE=655 California Ave. Pittsburg\, CA 94565:geo:-121.8774965,38.015057
END:VEVENT
BEGIN:VEVENT
DTSTART;TZID=America/Los_Angeles:20240331T100000
DTEND;TZID=America/Los_Angeles:20240331T113000
DTSTAMP:20260419T090525
CREATED:20240201T183835Z
LAST-MODIFIED:20260123T064236Z
UID:10001403-1711879200-1711884600@solomontempleministries.org
SUMMARY:Sunday Service
DESCRIPTION:Praise and Worship / Inspirational Word
URL:https://solomontempleministries.org/event/sunday-service/2024-03-31/
LOCATION:Solomon Temple Ministries International\, 655 California Ave. Pittsburg\, CA 94565\, Pittsburg\, CA\, 94565\, United States
GEO:38.015057;-121.8774965
X-APPLE-STRUCTURED-LOCATION;VALUE=URI;X-ADDRESS=Solomon Temple Ministries International 655 California Ave. Pittsburg CA 94565 Pittsburg CA 94565 United States;X-APPLE-RADIUS=500;X-TITLE=655 California Ave. Pittsburg\, CA 94565:geo:-121.8774965,38.015057
END:VEVENT
BEGIN:VEVENT
DTSTART;TZID=America/Los_Angeles:20240324T100000
DTEND;TZID=America/Los_Angeles:20240324T113000
DTSTAMP:20260419T090525
CREATED:20240201T183835Z
LAST-MODIFIED:20260123T064236Z
UID:10001402-1711274400-1711279800@solomontempleministries.org
SUMMARY:Sunday Service
DESCRIPTION:Praise and Worship / Inspirational Word
URL:https://solomontempleministries.org/event/sunday-service/2024-03-24/
LOCATION:Solomon Temple Ministries International\, 655 California Ave. Pittsburg\, CA 94565\, Pittsburg\, CA\, 94565\, United States
GEO:38.015057;-121.8774965
X-APPLE-STRUCTURED-LOCATION;VALUE=URI;X-ADDRESS=Solomon Temple Ministries International 655 California Ave. Pittsburg CA 94565 Pittsburg CA 94565 United States;X-APPLE-RADIUS=500;X-TITLE=655 California Ave. Pittsburg\, CA 94565:geo:-121.8774965,38.015057
END:VEVENT
BEGIN:VEVENT
DTSTART;TZID=America/Los_Angeles:20240317T100000
DTEND;TZID=America/Los_Angeles:20240317T113000
DTSTAMP:20260419T090525
CREATED:20240201T183835Z
LAST-MODIFIED:20260123T064236Z
UID:10001401-1710669600-1710675000@solomontempleministries.org
SUMMARY:Sunday Service
DESCRIPTION:Praise and Worship / Inspirational Word
URL:https://solomontempleministries.org/event/sunday-service/2024-03-17/
LOCATION:Solomon Temple Ministries International\, 655 California Ave. Pittsburg\, CA 94565\, Pittsburg\, CA\, 94565\, United States
GEO:38.015057;-121.8774965
X-APPLE-STRUCTURED-LOCATION;VALUE=URI;X-ADDRESS=Solomon Temple Ministries International 655 California Ave. Pittsburg CA 94565 Pittsburg CA 94565 United States;X-APPLE-RADIUS=500;X-TITLE=655 California Ave. Pittsburg\, CA 94565:geo:-121.8774965,38.015057
END:VEVENT
BEGIN:VEVENT
DTSTART;TZID=America/Los_Angeles:20240310T100000
DTEND;TZID=America/Los_Angeles:20240310T113000
DTSTAMP:20260419T090525
CREATED:20240201T183835Z
LAST-MODIFIED:20260123T064236Z
UID:10001400-1710064800-1710070200@solomontempleministries.org
SUMMARY:Sunday Service
DESCRIPTION:Praise and Worship / Inspirational Word
URL:https://solomontempleministries.org/event/sunday-service/2024-03-10/
LOCATION:Solomon Temple Ministries International\, 655 California Ave. Pittsburg\, CA 94565\, Pittsburg\, CA\, 94565\, United States
GEO:38.015057;-121.8774965
X-APPLE-STRUCTURED-LOCATION;VALUE=URI;X-ADDRESS=Solomon Temple Ministries International 655 California Ave. Pittsburg CA 94565 Pittsburg CA 94565 United States;X-APPLE-RADIUS=500;X-TITLE=655 California Ave. Pittsburg\, CA 94565:geo:-121.8774965,38.015057
END:VEVENT
BEGIN:VEVENT
DTSTART;TZID=America/Los_Angeles:20240303T100000
DTEND;TZID=America/Los_Angeles:20240303T113000
DTSTAMP:20260419T090525
CREATED:20240201T183835Z
LAST-MODIFIED:20260123T064236Z
UID:10001399-1709460000-1709465400@solomontempleministries.org
SUMMARY:Sunday Service
DESCRIPTION:Praise and Worship / Inspirational Word
URL:https://solomontempleministries.org/event/sunday-service/2024-03-03/
LOCATION:Solomon Temple Ministries International\, 655 California Ave. Pittsburg\, CA 94565\, Pittsburg\, CA\, 94565\, United States
GEO:38.015057;-121.8774965
X-APPLE-STRUCTURED-LOCATION;VALUE=URI;X-ADDRESS=Solomon Temple Ministries International 655 California Ave. Pittsburg CA 94565 Pittsburg CA 94565 United States;X-APPLE-RADIUS=500;X-TITLE=655 California Ave. Pittsburg\, CA 94565:geo:-121.8774965,38.015057
END:VEVENT
BEGIN:VEVENT
DTSTART;TZID=America/Los_Angeles:20240225T100000
DTEND;TZID=America/Los_Angeles:20240225T113000
DTSTAMP:20260419T090525
CREATED:20240201T183835Z
LAST-MODIFIED:20260123T064236Z
UID:10001398-1708855200-1708860600@solomontempleministries.org
SUMMARY:Sunday Service
DESCRIPTION:Praise and Worship / Inspirational Word
URL:https://solomontempleministries.org/event/sunday-service/2024-02-25/
LOCATION:Solomon Temple Ministries International\, 655 California Ave. Pittsburg\, CA 94565\, Pittsburg\, CA\, 94565\, United States
GEO:38.015057;-121.8774965
X-APPLE-STRUCTURED-LOCATION;VALUE=URI;X-ADDRESS=Solomon Temple Ministries International 655 California Ave. Pittsburg CA 94565 Pittsburg CA 94565 United States;X-APPLE-RADIUS=500;X-TITLE=655 California Ave. Pittsburg\, CA 94565:geo:-121.8774965,38.015057
END:VEVENT
BEGIN:VEVENT
DTSTART;TZID=America/Los_Angeles:20240218T100000
DTEND;TZID=America/Los_Angeles:20240218T113000
DTSTAMP:20260419T090525
CREATED:20240201T183835Z
LAST-MODIFIED:20260123T064236Z
UID:10001397-1708250400-1708255800@solomontempleministries.org
SUMMARY:Sunday Service
DESCRIPTION:Praise and Worship / Inspirational Word
URL:https://solomontempleministries.org/event/sunday-service/2024-02-18/
LOCATION:Solomon Temple Ministries International\, 655 California Ave. Pittsburg\, CA 94565\, Pittsburg\, CA\, 94565\, United States
GEO:38.015057;-121.8774965
X-APPLE-STRUCTURED-LOCATION;VALUE=URI;X-ADDRESS=Solomon Temple Ministries International 655 California Ave. Pittsburg CA 94565 Pittsburg CA 94565 United States;X-APPLE-RADIUS=500;X-TITLE=655 California Ave. Pittsburg\, CA 94565:geo:-121.8774965,38.015057
END:VEVENT
BEGIN:VEVENT
DTSTART;TZID=America/Los_Angeles:20240211T100000
DTEND;TZID=America/Los_Angeles:20240211T113000
DTSTAMP:20260419T090525
CREATED:20240201T183835Z
LAST-MODIFIED:20260123T064236Z
UID:10001396-1707645600-1707651000@solomontempleministries.org
SUMMARY:Sunday Service
DESCRIPTION:Praise and Worship / Inspirational Word
URL:https://solomontempleministries.org/event/sunday-service/2024-02-11/
LOCATION:Solomon Temple Ministries International\, 655 California Ave. Pittsburg\, CA 94565\, Pittsburg\, CA\, 94565\, United States
GEO:38.015057;-121.8774965
X-APPLE-STRUCTURED-LOCATION;VALUE=URI;X-ADDRESS=Solomon Temple Ministries International 655 California Ave. Pittsburg CA 94565 Pittsburg CA 94565 United States;X-APPLE-RADIUS=500;X-TITLE=655 California Ave. Pittsburg\, CA 94565:geo:-121.8774965,38.015057
END:VEVENT
END:VCALENDAR