BEGIN:VCALENDAR
VERSION:2.0
PRODID:-//Solomon Temple Ministries International - ECPv6.15.18//NONSGML v1.0//EN
CALSCALE:GREGORIAN
METHOD:PUBLISH
X-ORIGINAL-URL:https://solomontempleministries.org
X-WR-CALDESC:Events for Solomon Temple Ministries International
REFRESH-INTERVAL;VALUE=DURATION:PT1H
X-Robots-Tag:noindex
X-PUBLISHED-TTL:PT1H
BEGIN:VTIMEZONE
TZID:America/Los_Angeles
BEGIN:DAYLIGHT
TZOFFSETFROM:-0800
TZOFFSETTO:-0700
TZNAME:PDT
DTSTART:20250309T100000
END:DAYLIGHT
BEGIN:STANDARD
TZOFFSETFROM:-0700
TZOFFSETTO:-0800
TZNAME:PST
DTSTART:20251102T090000
END:STANDARD
BEGIN:DAYLIGHT
TZOFFSETFROM:-0800
TZOFFSETTO:-0700
TZNAME:PDT
DTSTART:20260308T100000
END:DAYLIGHT
BEGIN:STANDARD
TZOFFSETFROM:-0700
TZOFFSETTO:-0800
TZNAME:PST
DTSTART:20261101T090000
END:STANDARD
BEGIN:DAYLIGHT
TZOFFSETFROM:-0800
TZOFFSETTO:-0700
TZNAME:PDT
DTSTART:20270314T100000
END:DAYLIGHT
BEGIN:STANDARD
TZOFFSETFROM:-0700
TZOFFSETTO:-0800
TZNAME:PST
DTSTART:20271107T090000
END:STANDARD
END:VTIMEZONE
BEGIN:VEVENT
DTSTART;TZID=America/Los_Angeles:20261029T173000
DTEND;TZID=America/Los_Angeles:20261029T174500
DTSTAMP:20260425T044852
CREATED:20260123T065842Z
LAST-MODIFIED:20260123T065842Z
UID:10002251-1793295000-1793295900@solomontempleministries.org
SUMMARY:Daily Intercessory Prayer
DESCRIPTION:Call-in: 1 (888) 633-1082\n5:30-5:45 AM
URL:https://solomontempleministries.org/event/daily-intercessory-prayer/2026-10-29/
LOCATION:Solomon Temple Ministries International\, 655 California Ave. Pittsburg\, CA 94565\, Pittsburg\, CA\, 94565\, United States
GEO:38.015057;-121.8774965
X-APPLE-STRUCTURED-LOCATION;VALUE=URI;X-ADDRESS=Solomon Temple Ministries International 655 California Ave. Pittsburg CA 94565 Pittsburg CA 94565 United States;X-APPLE-RADIUS=500;X-TITLE=655 California Ave. Pittsburg\, CA 94565:geo:-121.8774965,38.015057
END:VEVENT
BEGIN:VEVENT
DTSTART;TZID=America/Los_Angeles:20261030T173000
DTEND;TZID=America/Los_Angeles:20261030T174500
DTSTAMP:20260425T044852
CREATED:20260123T065842Z
LAST-MODIFIED:20260123T065842Z
UID:10002252-1793381400-1793382300@solomontempleministries.org
SUMMARY:Daily Intercessory Prayer
DESCRIPTION:Call-in: 1 (888) 633-1082\n5:30-5:45 AM
URL:https://solomontempleministries.org/event/daily-intercessory-prayer/2026-10-30/
LOCATION:Solomon Temple Ministries International\, 655 California Ave. Pittsburg\, CA 94565\, Pittsburg\, CA\, 94565\, United States
GEO:38.015057;-121.8774965
X-APPLE-STRUCTURED-LOCATION;VALUE=URI;X-ADDRESS=Solomon Temple Ministries International 655 California Ave. Pittsburg CA 94565 Pittsburg CA 94565 United States;X-APPLE-RADIUS=500;X-TITLE=655 California Ave. Pittsburg\, CA 94565:geo:-121.8774965,38.015057
END:VEVENT
BEGIN:VEVENT
DTSTART;TZID=America/Los_Angeles:20261031T173000
DTEND;TZID=America/Los_Angeles:20261031T174500
DTSTAMP:20260425T044852
CREATED:20260123T065842Z
LAST-MODIFIED:20260123T065842Z
UID:10002253-1793467800-1793468700@solomontempleministries.org
SUMMARY:Daily Intercessory Prayer
DESCRIPTION:Call-in: 1 (888) 633-1082\n5:30-5:45 AM
URL:https://solomontempleministries.org/event/daily-intercessory-prayer/2026-10-31/
LOCATION:Solomon Temple Ministries International\, 655 California Ave. Pittsburg\, CA 94565\, Pittsburg\, CA\, 94565\, United States
GEO:38.015057;-121.8774965
X-APPLE-STRUCTURED-LOCATION;VALUE=URI;X-ADDRESS=Solomon Temple Ministries International 655 California Ave. Pittsburg CA 94565 Pittsburg CA 94565 United States;X-APPLE-RADIUS=500;X-TITLE=655 California Ave. Pittsburg\, CA 94565:geo:-121.8774965,38.015057
END:VEVENT
BEGIN:VEVENT
DTSTART;TZID=America/Los_Angeles:20261101T100000
DTEND;TZID=America/Los_Angeles:20261101T113000
DTSTAMP:20260425T044852
CREATED:20240201T183835Z
LAST-MODIFIED:20260123T064236Z
UID:10001538-1793527200-1793532600@solomontempleministries.org
SUMMARY:Sunday Service
DESCRIPTION:Praise and Worship / Inspirational Word
URL:https://solomontempleministries.org/event/sunday-service/2026-11-01/
LOCATION:Solomon Temple Ministries International\, 655 California Ave. Pittsburg\, CA 94565\, Pittsburg\, CA\, 94565\, United States
GEO:38.015057;-121.8774965
X-APPLE-STRUCTURED-LOCATION;VALUE=URI;X-ADDRESS=Solomon Temple Ministries International 655 California Ave. Pittsburg CA 94565 Pittsburg CA 94565 United States;X-APPLE-RADIUS=500;X-TITLE=655 California Ave. Pittsburg\, CA 94565:geo:-121.8774965,38.015057
END:VEVENT
BEGIN:VEVENT
DTSTART;TZID=America/Los_Angeles:20261101T173000
DTEND;TZID=America/Los_Angeles:20261101T174500
DTSTAMP:20260425T044852
CREATED:20260123T065842Z
LAST-MODIFIED:20260123T065842Z
UID:10002254-1793554200-1793555100@solomontempleministries.org
SUMMARY:Daily Intercessory Prayer
DESCRIPTION:Call-in: 1 (888) 633-1082\n5:30-5:45 AM
URL:https://solomontempleministries.org/event/daily-intercessory-prayer/2026-11-01/
LOCATION:Solomon Temple Ministries International\, 655 California Ave. Pittsburg\, CA 94565\, Pittsburg\, CA\, 94565\, United States
GEO:38.015057;-121.8774965
X-APPLE-STRUCTURED-LOCATION;VALUE=URI;X-ADDRESS=Solomon Temple Ministries International 655 California Ave. Pittsburg CA 94565 Pittsburg CA 94565 United States;X-APPLE-RADIUS=500;X-TITLE=655 California Ave. Pittsburg\, CA 94565:geo:-121.8774965,38.015057
END:VEVENT
BEGIN:VEVENT
DTSTART;TZID=America/Los_Angeles:20261102T173000
DTEND;TZID=America/Los_Angeles:20261102T174500
DTSTAMP:20260425T044852
CREATED:20260123T065842Z
LAST-MODIFIED:20260123T065842Z
UID:10002255-1793640600-1793641500@solomontempleministries.org
SUMMARY:Daily Intercessory Prayer
DESCRIPTION:Call-in: 1 (888) 633-1082\n5:30-5:45 AM
URL:https://solomontempleministries.org/event/daily-intercessory-prayer/2026-11-02/
LOCATION:Solomon Temple Ministries International\, 655 California Ave. Pittsburg\, CA 94565\, Pittsburg\, CA\, 94565\, United States
GEO:38.015057;-121.8774965
X-APPLE-STRUCTURED-LOCATION;VALUE=URI;X-ADDRESS=Solomon Temple Ministries International 655 California Ave. Pittsburg CA 94565 Pittsburg CA 94565 United States;X-APPLE-RADIUS=500;X-TITLE=655 California Ave. Pittsburg\, CA 94565:geo:-121.8774965,38.015057
END:VEVENT
BEGIN:VEVENT
DTSTART;TZID=America/Los_Angeles:20261103T120000
DTEND;TZID=America/Los_Angeles:20261103T120000
DTSTAMP:20260425T044852
CREATED:20260123T070243Z
LAST-MODIFIED:20260123T070420Z
UID:10003919-1793707200-1793707200@solomontempleministries.org
SUMMARY:Noonday Prayer
DESCRIPTION:Noonday Prayer 12-12:15 PM\nTues\, Wed & Thurs (Only)
URL:https://solomontempleministries.org/event/noonday-prayer/2026-11-03/
LOCATION:Facebook Live or Call-in.
END:VEVENT
BEGIN:VEVENT
DTSTART;TZID=America/Los_Angeles:20261103T173000
DTEND;TZID=America/Los_Angeles:20261103T174500
DTSTAMP:20260425T044852
CREATED:20260123T065842Z
LAST-MODIFIED:20260123T065842Z
UID:10002256-1793727000-1793727900@solomontempleministries.org
SUMMARY:Daily Intercessory Prayer
DESCRIPTION:Call-in: 1 (888) 633-1082\n5:30-5:45 AM
URL:https://solomontempleministries.org/event/daily-intercessory-prayer/2026-11-03/
LOCATION:Solomon Temple Ministries International\, 655 California Ave. Pittsburg\, CA 94565\, Pittsburg\, CA\, 94565\, United States
GEO:38.015057;-121.8774965
X-APPLE-STRUCTURED-LOCATION;VALUE=URI;X-ADDRESS=Solomon Temple Ministries International 655 California Ave. Pittsburg CA 94565 Pittsburg CA 94565 United States;X-APPLE-RADIUS=500;X-TITLE=655 California Ave. Pittsburg\, CA 94565:geo:-121.8774965,38.015057
END:VEVENT
BEGIN:VEVENT
DTSTART;TZID=America/Los_Angeles:20261103T180000
DTEND;TZID=America/Los_Angeles:20261103T181500
DTSTAMP:20260425T044852
CREATED:20260123T070739Z
LAST-MODIFIED:20260123T070937Z
UID:10005423-1793728800-1793729700@solomontempleministries.org
SUMMARY:Millennial Prayer Call
DESCRIPTION:Tuesdays 6:00-6:15 PM\nCall-in: 1(888) 633-1082
URL:https://solomontempleministries.org/event/millennial-prayer-call/2026-11-03/
LOCATION:Facebook Live or Call-in.
END:VEVENT
BEGIN:VEVENT
DTSTART;TZID=America/Los_Angeles:20261103T190000
DTEND;TZID=America/Los_Angeles:20261103T193000
DTSTAMP:20260425T044852
CREATED:20260123T070615Z
LAST-MODIFIED:20260123T070615Z
UID:10004633-1793732400-1793734200@solomontempleministries.org
SUMMARY:Word Life Weekly Bible Study
DESCRIPTION:Tuesdays 7:00-7:30 PM\nJoin via Facebook Live\nPastor Victor S. Brice\nCall-in: 1(888) 633-1082
URL:https://solomontempleministries.org/event/word-life-weekly-bible-study/2026-11-03/
LOCATION:Facebook Live or Call-in.
END:VEVENT
BEGIN:VEVENT
DTSTART;TZID=America/Los_Angeles:20261104T120000
DTEND;TZID=America/Los_Angeles:20261104T120000
DTSTAMP:20260425T044852
CREATED:20260123T070243Z
LAST-MODIFIED:20260123T070420Z
UID:10003920-1793793600-1793793600@solomontempleministries.org
SUMMARY:Noonday Prayer
DESCRIPTION:Noonday Prayer 12-12:15 PM\nTues\, Wed & Thurs (Only)
URL:https://solomontempleministries.org/event/noonday-prayer/2026-11-04/
LOCATION:Facebook Live or Call-in.
END:VEVENT
BEGIN:VEVENT
DTSTART;TZID=America/Los_Angeles:20261104T173000
DTEND;TZID=America/Los_Angeles:20261104T174500
DTSTAMP:20260425T044852
CREATED:20260123T065842Z
LAST-MODIFIED:20260123T065842Z
UID:10002257-1793813400-1793814300@solomontempleministries.org
SUMMARY:Daily Intercessory Prayer
DESCRIPTION:Call-in: 1 (888) 633-1082\n5:30-5:45 AM
URL:https://solomontempleministries.org/event/daily-intercessory-prayer/2026-11-04/
LOCATION:Solomon Temple Ministries International\, 655 California Ave. Pittsburg\, CA 94565\, Pittsburg\, CA\, 94565\, United States
GEO:38.015057;-121.8774965
X-APPLE-STRUCTURED-LOCATION;VALUE=URI;X-ADDRESS=Solomon Temple Ministries International 655 California Ave. Pittsburg CA 94565 Pittsburg CA 94565 United States;X-APPLE-RADIUS=500;X-TITLE=655 California Ave. Pittsburg\, CA 94565:geo:-121.8774965,38.015057
END:VEVENT
BEGIN:VEVENT
DTSTART;TZID=America/Los_Angeles:20261104T190000
DTEND;TZID=America/Los_Angeles:20261104T194000
DTSTAMP:20260425T044852
CREATED:20260123T070847Z
LAST-MODIFIED:20260123T070847Z
UID:10005159-1793818800-1793821200@solomontempleministries.org
SUMMARY:Word Life Transformation
DESCRIPTION:Wednesdays 7-7:40 PM\n(Zoom Classes)\nw/breakout sessions\nfor all age groups\nCall-in: 1(669) 900-6833\nPin Code: 8190 8582 609
URL:https://solomontempleministries.org/event/word-life-transformation/2026-11-04/
LOCATION:Facebook Live or Call-in.
END:VEVENT
BEGIN:VEVENT
DTSTART;TZID=America/Los_Angeles:20261105T120000
DTEND;TZID=America/Los_Angeles:20261105T120000
DTSTAMP:20260425T044852
CREATED:20260123T070243Z
LAST-MODIFIED:20260123T070420Z
UID:10003921-1793880000-1793880000@solomontempleministries.org
SUMMARY:Noonday Prayer
DESCRIPTION:Noonday Prayer 12-12:15 PM\nTues\, Wed & Thurs (Only)
URL:https://solomontempleministries.org/event/noonday-prayer/2026-11-05/
LOCATION:Facebook Live or Call-in.
END:VEVENT
BEGIN:VEVENT
DTSTART;TZID=America/Los_Angeles:20261105T173000
DTEND;TZID=America/Los_Angeles:20261105T174500
DTSTAMP:20260425T044852
CREATED:20260123T065842Z
LAST-MODIFIED:20260123T065842Z
UID:10002258-1793899800-1793900700@solomontempleministries.org
SUMMARY:Daily Intercessory Prayer
DESCRIPTION:Call-in: 1 (888) 633-1082\n5:30-5:45 AM
URL:https://solomontempleministries.org/event/daily-intercessory-prayer/2026-11-05/
LOCATION:Solomon Temple Ministries International\, 655 California Ave. Pittsburg\, CA 94565\, Pittsburg\, CA\, 94565\, United States
GEO:38.015057;-121.8774965
X-APPLE-STRUCTURED-LOCATION;VALUE=URI;X-ADDRESS=Solomon Temple Ministries International 655 California Ave. Pittsburg CA 94565 Pittsburg CA 94565 United States;X-APPLE-RADIUS=500;X-TITLE=655 California Ave. Pittsburg\, CA 94565:geo:-121.8774965,38.015057
END:VEVENT
BEGIN:VEVENT
DTSTART;TZID=America/Los_Angeles:20261106T173000
DTEND;TZID=America/Los_Angeles:20261106T174500
DTSTAMP:20260425T044852
CREATED:20260123T065842Z
LAST-MODIFIED:20260123T065842Z
UID:10002259-1793986200-1793987100@solomontempleministries.org
SUMMARY:Daily Intercessory Prayer
DESCRIPTION:Call-in: 1 (888) 633-1082\n5:30-5:45 AM
URL:https://solomontempleministries.org/event/daily-intercessory-prayer/2026-11-06/
LOCATION:Solomon Temple Ministries International\, 655 California Ave. Pittsburg\, CA 94565\, Pittsburg\, CA\, 94565\, United States
GEO:38.015057;-121.8774965
X-APPLE-STRUCTURED-LOCATION;VALUE=URI;X-ADDRESS=Solomon Temple Ministries International 655 California Ave. Pittsburg CA 94565 Pittsburg CA 94565 United States;X-APPLE-RADIUS=500;X-TITLE=655 California Ave. Pittsburg\, CA 94565:geo:-121.8774965,38.015057
END:VEVENT
BEGIN:VEVENT
DTSTART;TZID=America/Los_Angeles:20261107T173000
DTEND;TZID=America/Los_Angeles:20261107T174500
DTSTAMP:20260425T044852
CREATED:20260123T065842Z
LAST-MODIFIED:20260123T065842Z
UID:10002260-1794072600-1794073500@solomontempleministries.org
SUMMARY:Daily Intercessory Prayer
DESCRIPTION:Call-in: 1 (888) 633-1082\n5:30-5:45 AM
URL:https://solomontempleministries.org/event/daily-intercessory-prayer/2026-11-07/
LOCATION:Solomon Temple Ministries International\, 655 California Ave. Pittsburg\, CA 94565\, Pittsburg\, CA\, 94565\, United States
GEO:38.015057;-121.8774965
X-APPLE-STRUCTURED-LOCATION;VALUE=URI;X-ADDRESS=Solomon Temple Ministries International 655 California Ave. Pittsburg CA 94565 Pittsburg CA 94565 United States;X-APPLE-RADIUS=500;X-TITLE=655 California Ave. Pittsburg\, CA 94565:geo:-121.8774965,38.015057
END:VEVENT
BEGIN:VEVENT
DTSTART;TZID=America/Los_Angeles:20261108T100000
DTEND;TZID=America/Los_Angeles:20261108T113000
DTSTAMP:20260425T044852
CREATED:20240201T183835Z
LAST-MODIFIED:20260123T064236Z
UID:10001539-1794132000-1794137400@solomontempleministries.org
SUMMARY:Sunday Service
DESCRIPTION:Praise and Worship / Inspirational Word
URL:https://solomontempleministries.org/event/sunday-service/2026-11-08/
LOCATION:Solomon Temple Ministries International\, 655 California Ave. Pittsburg\, CA 94565\, Pittsburg\, CA\, 94565\, United States
GEO:38.015057;-121.8774965
X-APPLE-STRUCTURED-LOCATION;VALUE=URI;X-ADDRESS=Solomon Temple Ministries International 655 California Ave. Pittsburg CA 94565 Pittsburg CA 94565 United States;X-APPLE-RADIUS=500;X-TITLE=655 California Ave. Pittsburg\, CA 94565:geo:-121.8774965,38.015057
END:VEVENT
BEGIN:VEVENT
DTSTART;TZID=America/Los_Angeles:20261108T173000
DTEND;TZID=America/Los_Angeles:20261108T174500
DTSTAMP:20260425T044852
CREATED:20260123T065842Z
LAST-MODIFIED:20260123T065842Z
UID:10002261-1794159000-1794159900@solomontempleministries.org
SUMMARY:Daily Intercessory Prayer
DESCRIPTION:Call-in: 1 (888) 633-1082\n5:30-5:45 AM
URL:https://solomontempleministries.org/event/daily-intercessory-prayer/2026-11-08/
LOCATION:Solomon Temple Ministries International\, 655 California Ave. Pittsburg\, CA 94565\, Pittsburg\, CA\, 94565\, United States
GEO:38.015057;-121.8774965
X-APPLE-STRUCTURED-LOCATION;VALUE=URI;X-ADDRESS=Solomon Temple Ministries International 655 California Ave. Pittsburg CA 94565 Pittsburg CA 94565 United States;X-APPLE-RADIUS=500;X-TITLE=655 California Ave. Pittsburg\, CA 94565:geo:-121.8774965,38.015057
END:VEVENT
BEGIN:VEVENT
DTSTART;TZID=America/Los_Angeles:20261109T173000
DTEND;TZID=America/Los_Angeles:20261109T174500
DTSTAMP:20260425T044852
CREATED:20260123T065842Z
LAST-MODIFIED:20260123T065842Z
UID:10002262-1794245400-1794246300@solomontempleministries.org
SUMMARY:Daily Intercessory Prayer
DESCRIPTION:Call-in: 1 (888) 633-1082\n5:30-5:45 AM
URL:https://solomontempleministries.org/event/daily-intercessory-prayer/2026-11-09/
LOCATION:Solomon Temple Ministries International\, 655 California Ave. Pittsburg\, CA 94565\, Pittsburg\, CA\, 94565\, United States
GEO:38.015057;-121.8774965
X-APPLE-STRUCTURED-LOCATION;VALUE=URI;X-ADDRESS=Solomon Temple Ministries International 655 California Ave. Pittsburg CA 94565 Pittsburg CA 94565 United States;X-APPLE-RADIUS=500;X-TITLE=655 California Ave. Pittsburg\, CA 94565:geo:-121.8774965,38.015057
END:VEVENT
BEGIN:VEVENT
DTSTART;TZID=America/Los_Angeles:20261110T120000
DTEND;TZID=America/Los_Angeles:20261110T120000
DTSTAMP:20260425T044852
CREATED:20260123T070243Z
LAST-MODIFIED:20260123T070420Z
UID:10003922-1794312000-1794312000@solomontempleministries.org
SUMMARY:Noonday Prayer
DESCRIPTION:Noonday Prayer 12-12:15 PM\nTues\, Wed & Thurs (Only)
URL:https://solomontempleministries.org/event/noonday-prayer/2026-11-10/
LOCATION:Facebook Live or Call-in.
END:VEVENT
BEGIN:VEVENT
DTSTART;TZID=America/Los_Angeles:20261110T173000
DTEND;TZID=America/Los_Angeles:20261110T174500
DTSTAMP:20260425T044852
CREATED:20260123T065842Z
LAST-MODIFIED:20260123T065842Z
UID:10002263-1794331800-1794332700@solomontempleministries.org
SUMMARY:Daily Intercessory Prayer
DESCRIPTION:Call-in: 1 (888) 633-1082\n5:30-5:45 AM
URL:https://solomontempleministries.org/event/daily-intercessory-prayer/2026-11-10/
LOCATION:Solomon Temple Ministries International\, 655 California Ave. Pittsburg\, CA 94565\, Pittsburg\, CA\, 94565\, United States
GEO:38.015057;-121.8774965
X-APPLE-STRUCTURED-LOCATION;VALUE=URI;X-ADDRESS=Solomon Temple Ministries International 655 California Ave. Pittsburg CA 94565 Pittsburg CA 94565 United States;X-APPLE-RADIUS=500;X-TITLE=655 California Ave. Pittsburg\, CA 94565:geo:-121.8774965,38.015057
END:VEVENT
BEGIN:VEVENT
DTSTART;TZID=America/Los_Angeles:20261110T180000
DTEND;TZID=America/Los_Angeles:20261110T181500
DTSTAMP:20260425T044852
CREATED:20260123T070739Z
LAST-MODIFIED:20260123T070937Z
UID:10005424-1794333600-1794334500@solomontempleministries.org
SUMMARY:Millennial Prayer Call
DESCRIPTION:Tuesdays 6:00-6:15 PM\nCall-in: 1(888) 633-1082
URL:https://solomontempleministries.org/event/millennial-prayer-call/2026-11-10/
LOCATION:Facebook Live or Call-in.
END:VEVENT
BEGIN:VEVENT
DTSTART;TZID=America/Los_Angeles:20261110T190000
DTEND;TZID=America/Los_Angeles:20261110T193000
DTSTAMP:20260425T044852
CREATED:20260123T070615Z
LAST-MODIFIED:20260123T070615Z
UID:10004634-1794337200-1794339000@solomontempleministries.org
SUMMARY:Word Life Weekly Bible Study
DESCRIPTION:Tuesdays 7:00-7:30 PM\nJoin via Facebook Live\nPastor Victor S. Brice\nCall-in: 1(888) 633-1082
URL:https://solomontempleministries.org/event/word-life-weekly-bible-study/2026-11-10/
LOCATION:Facebook Live or Call-in.
END:VEVENT
BEGIN:VEVENT
DTSTART;TZID=America/Los_Angeles:20261111T120000
DTEND;TZID=America/Los_Angeles:20261111T120000
DTSTAMP:20260425T044852
CREATED:20260123T070243Z
LAST-MODIFIED:20260123T070420Z
UID:10003923-1794398400-1794398400@solomontempleministries.org
SUMMARY:Noonday Prayer
DESCRIPTION:Noonday Prayer 12-12:15 PM\nTues\, Wed & Thurs (Only)
URL:https://solomontempleministries.org/event/noonday-prayer/2026-11-11/
LOCATION:Facebook Live or Call-in.
END:VEVENT
BEGIN:VEVENT
DTSTART;TZID=America/Los_Angeles:20261111T173000
DTEND;TZID=America/Los_Angeles:20261111T174500
DTSTAMP:20260425T044852
CREATED:20260123T065842Z
LAST-MODIFIED:20260123T065842Z
UID:10002264-1794418200-1794419100@solomontempleministries.org
SUMMARY:Daily Intercessory Prayer
DESCRIPTION:Call-in: 1 (888) 633-1082\n5:30-5:45 AM
URL:https://solomontempleministries.org/event/daily-intercessory-prayer/2026-11-11/
LOCATION:Solomon Temple Ministries International\, 655 California Ave. Pittsburg\, CA 94565\, Pittsburg\, CA\, 94565\, United States
GEO:38.015057;-121.8774965
X-APPLE-STRUCTURED-LOCATION;VALUE=URI;X-ADDRESS=Solomon Temple Ministries International 655 California Ave. Pittsburg CA 94565 Pittsburg CA 94565 United States;X-APPLE-RADIUS=500;X-TITLE=655 California Ave. Pittsburg\, CA 94565:geo:-121.8774965,38.015057
END:VEVENT
BEGIN:VEVENT
DTSTART;TZID=America/Los_Angeles:20261111T190000
DTEND;TZID=America/Los_Angeles:20261111T194000
DTSTAMP:20260425T044852
CREATED:20260123T070847Z
LAST-MODIFIED:20260123T070847Z
UID:10005160-1794423600-1794426000@solomontempleministries.org
SUMMARY:Word Life Transformation
DESCRIPTION:Wednesdays 7-7:40 PM\n(Zoom Classes)\nw/breakout sessions\nfor all age groups\nCall-in: 1(669) 900-6833\nPin Code: 8190 8582 609
URL:https://solomontempleministries.org/event/word-life-transformation/2026-11-11/
LOCATION:Facebook Live or Call-in.
END:VEVENT
BEGIN:VEVENT
DTSTART;TZID=America/Los_Angeles:20261112T120000
DTEND;TZID=America/Los_Angeles:20261112T120000
DTSTAMP:20260425T044852
CREATED:20260123T070243Z
LAST-MODIFIED:20260123T070420Z
UID:10003924-1794484800-1794484800@solomontempleministries.org
SUMMARY:Noonday Prayer
DESCRIPTION:Noonday Prayer 12-12:15 PM\nTues\, Wed & Thurs (Only)
URL:https://solomontempleministries.org/event/noonday-prayer/2026-11-12/
LOCATION:Facebook Live or Call-in.
END:VEVENT
BEGIN:VEVENT
DTSTART;TZID=America/Los_Angeles:20261112T173000
DTEND;TZID=America/Los_Angeles:20261112T174500
DTSTAMP:20260425T044852
CREATED:20260123T065842Z
LAST-MODIFIED:20260123T065842Z
UID:10002265-1794504600-1794505500@solomontempleministries.org
SUMMARY:Daily Intercessory Prayer
DESCRIPTION:Call-in: 1 (888) 633-1082\n5:30-5:45 AM
URL:https://solomontempleministries.org/event/daily-intercessory-prayer/2026-11-12/
LOCATION:Solomon Temple Ministries International\, 655 California Ave. Pittsburg\, CA 94565\, Pittsburg\, CA\, 94565\, United States
GEO:38.015057;-121.8774965
X-APPLE-STRUCTURED-LOCATION;VALUE=URI;X-ADDRESS=Solomon Temple Ministries International 655 California Ave. Pittsburg CA 94565 Pittsburg CA 94565 United States;X-APPLE-RADIUS=500;X-TITLE=655 California Ave. Pittsburg\, CA 94565:geo:-121.8774965,38.015057
END:VEVENT
BEGIN:VEVENT
DTSTART;TZID=America/Los_Angeles:20261113T173000
DTEND;TZID=America/Los_Angeles:20261113T174500
DTSTAMP:20260425T044852
CREATED:20260123T065842Z
LAST-MODIFIED:20260123T065842Z
UID:10002266-1794591000-1794591900@solomontempleministries.org
SUMMARY:Daily Intercessory Prayer
DESCRIPTION:Call-in: 1 (888) 633-1082\n5:30-5:45 AM
URL:https://solomontempleministries.org/event/daily-intercessory-prayer/2026-11-13/
LOCATION:Solomon Temple Ministries International\, 655 California Ave. Pittsburg\, CA 94565\, Pittsburg\, CA\, 94565\, United States
GEO:38.015057;-121.8774965
X-APPLE-STRUCTURED-LOCATION;VALUE=URI;X-ADDRESS=Solomon Temple Ministries International 655 California Ave. Pittsburg CA 94565 Pittsburg CA 94565 United States;X-APPLE-RADIUS=500;X-TITLE=655 California Ave. Pittsburg\, CA 94565:geo:-121.8774965,38.015057
END:VEVENT
END:VCALENDAR